BEGIN:VCALENDAR
VERSION:2.0
PRODID:-//ChamberMaster//Event Calendar 2.0//EN
METHOD:PUBLISH
X-PUBLISHED-TTL:P3D
REFRESH-INTERVAL:P3D
CALSCALE:GREGORIAN
BEGIN:VEVENT
DTSTART:20210930T150000Z
DTEND:20210930T160000Z
X-MICROSOFT-CDO-ALLDAYEVENT:FALSE
SUMMARY:Hearing Loop Presentation
DESCRIPTION:As most of us know\, even with hearing aids set at all the right parameters\, it can still be difficult to understand what is being said. This is especially true in large\, open areas with large crowds. \n\nThe good news is\, there is a way to handle this issue. In fact\, it's already hidden in hearing aids out there! Telecoil and induction hearing loop technology have been available for some time. \n\nThe Hearing Loss Association of America (HLAA)\, a consumer advocate group\, is hosting a presentation Thursday\, September 30 at 9am at St. Stephen's Episcopal Church\, 1303 S Bross Lane\, Longmont\, CO 80501. Join us for Dr. Juli tte Sterkens' presentation\, "Induction Hearing Loops and How They Improve Hearing for Hearing Aid Wearers & Cochlear Implant Recipients." Dr. Sterkens is a Hearing Loop advocate\, and she will be available for an informative Q&A after the presentation.\n\nClick for more information on our blog.\n\nRSVP to Longmont Hearing and Tinnitus Center by September 27 at info@longmontchamber.org or call 303-651-1178.
X-ALT-DESC;FMTTYPE=text/html:<span style="color: rgb(35\, 31\, 32)\; font-family: montserrat\, sans-serif\; font-size: 16px\;">As most of us know\, even with&nbsp\;</span><a href="https://longmonthearing.com/hearing-care-services/get-fitted-for-hearing-aids-at-longmont-hearing-and-tinnitus-center/" style="box-sizing: border-box\; background-color: transparent\; color: rgb(90\, 115\, 173)\; text-decoration-line: none\; font-weight: 700\; font-family: montserrat\, sans-serif\; font-size: 16px\;">hearing aids</a><span style="color: rgb(35\, 31\, 32)\; font-family: montserrat\, sans-serif\; font-size: 16px\;">&nbsp\;set at all the right parameters\, it can still be difficult to understand what is being said. This is especially true in large\, open areas with large crowds.&nbsp\;</span><br />\n<span style="color: rgb(35\, 31\, 32)\; font-family: montserrat\, sans-serif\; font-size: 16px\;">The good news is\, there is a way to handle this issue. In fact\, it&rsquo\;s already hidden in hearing aids out there! Telecoil and induction hearing loop technology have been available for some time.&nbsp\;</span><br />\n<span style="color: rgb(35\, 31\, 32)\; font-family: montserrat\, sans-serif\; font-size: 16px\;">The Hearing Loss Association of America (HLAA)\, a consumer advocate group\, is hosting a presentation Thursday\, September 30 at 9am at St. Stephen&#39\;s Episcopal Church\, 1303 S Bross Lane\, Longmont\, CO 80501. Join us for Dr. Juli&euml\;tte Sterkens&rsquo\; presentation\, &ldquo\;Induction Hearing Loops and How They Improve Hearing for Hearing Aid Wearers &amp\; Cochlear Implant Recipients.&rdquo\; Dr. Sterkens is a Hearing Loop advocate\, and she will be available for an informative Q&amp\;A after the presentation.<br />\n<a href="https://longmonthearing.com/induction-hearing-loops-improve-hearing-for-hearing-aid-wearers/">Click for more information on our blog.</a></span><br />\nRSVP to Longmont Hearing and Tinnitus Center by September 27 at info@longmontchamber.org or call 303-651-1178.
LOCATION:St. Stephen's Episcopal Church 1303 S Bross Lane Longmont\, CO 80501
UID:e.3083.8609
SEQUENCE:3
DTSTAMP:20260424T104859Z
URL:https://members.longmontchamber.org/events/details/hearing-loop-presentation-8609
END:VEVENT

END:VCALENDAR
