BEGIN:VCALENDAR
VERSION:2.0
PRODID:-//ChamberMaster//Event Calendar 2.0//EN
METHOD:PUBLISH
X-PUBLISHED-TTL:P3D
REFRESH-INTERVAL:P3D
CALSCALE:GREGORIAN
BEGIN:VEVENT
DTSTART:20220428T233000Z
DTEND:20220429T013000Z
X-MICROSOFT-CDO-ALLDAYEVENT:FALSE
SUMMARY:HEI Public Open House
DESCRIPTION:HEI Energy is funding independent research on whether people living in the North Front Range community might be exposed to both chemical emissions to the air and to noise from unconventional oil and gas development. The research will be getting underway this year in the North Front Range region\, and HEI Energy is hosting an in-person open house for community members to learn more about this research.
X-ALT-DESC;FMTTYPE=text/html:<span style="color:rgb(41\, 43\, 44)\; font-family:source sans pro\,helvetica neue\,helvetica\,arial\,sans-serif\; font-size:14px">HEI Energy is funding independent research on whether people living in the North Front Range community might be exposed to both chemical emissions to the air and to noise from unconventional oil and gas development. The research will be getting underway this year in the North Front Range region\, and HEI Energy is hosting an in-person open house for community members to learn more about this research.</span>
LOCATION:The Times Collaborative 338 Main St Longmont\, CO 80501
UID:e.3083.8680
SEQUENCE:3
DTSTAMP:20260423T235836Z
URL:https://members.longmontchamber.org/events/details/hei-public-open-house-8680
END:VEVENT

END:VCALENDAR
