BEGIN:VCALENDAR
VERSION:2.0
PRODID:-//ChamberMaster//Event Calendar 2.0//EN
METHOD:PUBLISH
X-PUBLISHED-TTL:P3D
REFRESH-INTERVAL:P3D
CALSCALE:GREGORIAN
BEGIN:VEVENT
DTSTART:20251004T170000Z
DTEND:20251004T220000Z
X-MICROSOFT-CDO-ALLDAYEVENT:FALSE
SUMMARY:High Chai: Indian Afternoon Tea
DESCRIPTION:Welcome to High Chai: Indian Afternoon Tea: at Luminous Tea House!  Join us for a delightful afternoon filled with the rich flavors and aromas of Indian tea culture.  Indulge in a selection of Indian sandwiches\, Indian Street food\, and desserts paired with Indian Chais.  Immerse yourself in the vibrant colors and warm hospitality of India right here in our cozy tea house.  Come experience the magic of Indian High Chai with us!
X-ALT-DESC;FMTTYPE=text/html:<br />\n<span style="font-size:22px\;"><span style="color: rgb(111\, 114\, 135)\; font-family: &quot\;neue plak&quot\;\, -apple-system\, system-ui\, roboto\, &quot\;helvetica neue&quot\;\, helvetica\, tahoma\, arial\, sans-serif\;">Welcome to</span><strong>&nbsp\;High Chai</strong><span style="color: rgb(111\, 114\, 135)\; font-family: &quot\;neue plak&quot\;\, -apple-system\, system-ui\, roboto\, &quot\;helvetica neue&quot\;\, helvetica\, tahoma\, arial\, sans-serif\;">:&nbsp\;</span><strong>Indian Afternoon Tea:&nbsp\;</strong><span style="color: rgb(111\, 114\, 135)\; font-family: &quot\;neue plak&quot\;\, -apple-system\, system-ui\, roboto\, &quot\;helvetica neue&quot\;\, helvetica\, tahoma\, arial\, sans-serif\;">at&nbsp\;</span><strong>Luminous Tea House</strong><span style="color: rgb(111\, 114\, 135)\; font-family: &quot\;neue plak&quot\;\, -apple-system\, system-ui\, roboto\, &quot\;helvetica neue&quot\;\, helvetica\, tahoma\, arial\, sans-serif\;">!&nbsp\; Join us for a delightful afternoon filled with the rich flavors and aromas of Indian tea culture.&nbsp\; Indulge in a selection of Indian sandwiches\, Indian Street food\, and desserts paired with Indian Chais.&nbsp\; Immerse yourself in the vibrant colors and warm hospitality of India right here in our cozy tea house.&nbsp\; Come experience the magic of&nbsp\;</span><strong>Indian&nbsp\;</strong><strong>High Chai</strong><span style="color: rgb(111\, 114\, 135)\; font-family: &quot\;neue plak&quot\;\, -apple-system\, system-ui\, roboto\, &quot\;helvetica neue&quot\;\, helvetica\, tahoma\, arial\, sans-serif\;">&nbsp\;with us!</span></span>
LOCATION:Luminous Tea House & Cafe
UID:e.3083.12883
SEQUENCE:3
DTSTAMP:20260421T052204Z
URL:https://members.longmontchamber.org/events/details/high-chai-indian-afternoon-tea-10-04-2025-12883
END:VEVENT

END:VCALENDAR
