BEGIN:VCALENDAR
VERSION:2.0
PRODID:-//ChamberMaster//Event Calendar 2.0//EN
METHOD:PUBLISH
X-PUBLISHED-TTL:P3D
REFRESH-INTERVAL:P3D
CALSCALE:GREGORIAN
BEGIN:VEVENT
DTSTART:20250627T160000Z
DTEND:20250627T200000Z
X-MICROSOFT-CDO-ALLDAYEVENT:FALSE
SUMMARY:High Country Bank Annual Pet Food Drive
DESCRIPTION:Join us for our annual pet food drive in support of the Longmont Humane Society!\n\n\n\nHigh Country Bank\n\nJune 27th\n\n10am-2pm\n\n110 Main Street
X-ALT-DESC;FMTTYPE=text/html:<span style="font-size:20px\;">Join us for our annual pet food drive in support of the Longmont Humane Society!<br />\n<br />\nHigh Country Bank<br />\nJune 27th<br />\n10am-2pm<br />\n110 Main Street</span>
LOCATION:
UID:e.3083.13456
SEQUENCE:3
DTSTAMP:20260421T111815Z
URL:https://members.longmontchamber.org/events/details/high-country-bank-annual-pet-food-drive-06-27-2025-13456
END:VEVENT

END:VCALENDAR
