BEGIN:VCALENDAR
VERSION:2.0
PRODID:-//ChamberMaster//Event Calendar 2.0//EN
METHOD:PUBLISH
X-PUBLISHED-TTL:P3D
REFRESH-INTERVAL:P3D
CALSCALE:GREGORIAN
BEGIN:VEVENT
DTSTART:20230616T160000Z
DTEND:20230616T200000Z
X-MICROSOFT-CDO-ALLDAYEVENT:FALSE
SUMMARY:High Country Bank- Annual Pet Food Drive
DESCRIPTION:Help us support the Longmont Humane Society!  Bring pet food\, toys and treats and High Country Bank will donate a dollar for every pound of pet food\, up to 500 pounds\, to the Longmont Humane Society.
X-ALT-DESC;FMTTYPE=text/html:Help us support the Longmont Humane Society!&nbsp\; Bring pet food\, toys and treats and High Country Bank will donate a dollar for every pound of pet food\, up to 500 pounds\, to the Longmont Humane Society.&nbsp\;&nbsp\;
LOCATION:High Country Bank 110 Main Street Longmont\, CO
UID:e.3083.9680
SEQUENCE:3
DTSTAMP:20260423T023346Z
URL:https://members.longmontchamber.org/events/details/high-country-bank-annual-pet-food-drive-9680
END:VEVENT

END:VCALENDAR
