BEGIN:VCALENDAR
VERSION:2.0
PRODID:-//ChamberMaster//Event Calendar 2.0//EN
METHOD:PUBLISH
X-PUBLISHED-TTL:P3D
REFRESH-INTERVAL:P3D
CALSCALE:GREGORIAN
BEGIN:VEVENT
DTSTART:20241206T210000Z
DTEND:20241206T230000Z
X-MICROSOFT-CDO-ALLDAYEVENT:FALSE
SUMMARY:High Country Bank Holiday Open House
DESCRIPTION:Join us for holiday treats and cheer!
X-ALT-DESC;FMTTYPE=text/html:Join us for holiday treats and cheer!
LOCATION:High Country Bank
UID:e.3083.10496
SEQUENCE:3
DTSTAMP:20260421T205720Z
URL:https://members.longmontchamber.org/events/details/high-country-bank-holiday-open-house-12-06-2024-10496
END:VEVENT

END:VCALENDAR
