BEGIN:VCALENDAR
VERSION:2.0
PRODID:-//ChamberMaster//Event Calendar 2.0//EN
METHOD:PUBLISH
X-PUBLISHED-TTL:P3D
REFRESH-INTERVAL:P3D
CALSCALE:GREGORIAN
BEGIN:VEVENT
DTSTART:20221216T180000Z
DTEND:20221216T220000Z
X-MICROSOFT-CDO-ALLDAYEVENT:FALSE
SUMMARY:High Country Bank Holiday Open House
DESCRIPTION:Celebrate the gifts of the holiday season with High Country Bank!  Join us for cookies and treats to celebrate and spread joy this holiday season.  Please join us from 11-3pm for our annual holiday tradition!
X-ALT-DESC;FMTTYPE=text/html:Celebrate the gifts of the holiday season with High Country Bank!&nbsp\; Join us for cookies and treats to celebrate and spread joy this holiday season.&nbsp\; Please join us from 11-3pm for our annual holiday tradition!&nbsp\;
LOCATION:High Country Bank 110 Main Street
UID:e.3083.9259
SEQUENCE:3
DTSTAMP:20260423T113603Z
URL:https://members.longmontchamber.org/events/details/high-country-bank-holiday-open-house-9259
END:VEVENT

END:VCALENDAR
