BEGIN:VCALENDAR
VERSION:2.0
PRODID:-//ChamberMaster//Event Calendar 2.0//EN
METHOD:PUBLISH
X-PUBLISHED-TTL:P3D
REFRESH-INTERVAL:P3D
CALSCALE:GREGORIAN
BEGIN:VEVENT
DTSTART:20230505T000000Z
DTEND:20230505T020000Z
X-MICROSOFT-CDO-ALLDAYEVENT:FALSE
SUMMARY:High-Potency THC: A Community Forum
DESCRIPTION:Join Parent Engagement Network for a community forum on the risks & realities of high-potency THC and how it is currently affecting our kids and community. A panel of experts will engage in discussion and the audience will be invited to participate in a Q&A.
X-ALT-DESC;FMTTYPE=text/html:<span style="color:rgb(88\, 89\, 91)\; font-family:poppins\,helvetica\,arial\,lucida\,sans-serif\; font-size:14px">Join Parent Engagement Network for a community forum on the risks &amp\; realities of high-potency THC and how it is currently affecting our kids and community. A panel of experts will engage in discussion and the audience will be invited to participate in a Q&amp\;A.</span>
LOCATION:Broomfield Heights Middle School 1555 Daphne St. Broomfield\, CO
UID:e.3083.9673
SEQUENCE:3
DTSTAMP:20260423T035948Z
URL:https://members.longmontchamber.org/events/details/high-potency-thc-a-community-forum-9673
END:VEVENT

END:VCALENDAR
