BEGIN:VCALENDAR
VERSION:2.0
PRODID:-//ChamberMaster//Event Calendar 2.0//EN
METHOD:PUBLISH
X-PUBLISHED-TTL:P3D
REFRESH-INTERVAL:P3D
CALSCALE:GREGORIAN
BEGIN:VEVENT
DTSTART:20251031T010000Z
DTEND:20251031T033000Z
X-MICROSOFT-CDO-ALLDAYEVENT:FALSE
SUMMARY:High West Oyster Fest
DESCRIPTION:Join us for High West Oyster Fest 2025 on October 30th benefiting Sophies Neighborhood. Indulge in unlimited oysters and Jax curated bites paired with refreshing beverages. Cheer on the oyster masters in our famous annual Oyster Shucking and Eating Competitions. \n\n\n\nSophie's Neighborhood is a nonprofit dedicated to fundraising for research into the development of an effective treatment or cure for an ultra rare genetic disorder:  Multicentric Carpotarsal Osteolysis (MCTO)\n\n\n\nContributions to the charity directly fund critical research aimed at developing life-changing treatments for children like Sophie who currently have no other options. The need for your support is more urgent than ever. Our research partners at institutions like Harvard\, Boston Children's\, CU Anschutz\, and Jackson Labs are facing significant reductions in government funding (from entities such as NIH and NIAMS) that previously supplemented their vital work. As a small\, independent\, family-run nonprofit\, we rely on individual contributions to bridge this funding gap and accelerate the search for a cure. Your support makes a profound difference in giving hope to those affected by MCTO. \n\n\n\neTown Hall\, Boulder\n\nThursday\, October 30\, 2025\n\n7-9:30 pm with VIP early entrance at 6:15pm \n\n\n\nhttps://events.humanitix.com/october-30-high-west-oyster-festGET TICKETS
X-ALT-DESC;FMTTYPE=text/html:Join us for <a href="https://www.jaxfishhouse.com/hwof/">High West Oyster Fest </a>2025 on October 30th benefiting <a href="https://www.sophiesneighborhood.org/">Sophies Neighborhood</a>. Indulge in unlimited oysters and Jax curated bites paired with refreshing beverages. Cheer on the oyster masters in our famous annual Oyster Shucking and Eating Competitions.&nbsp\;<br />\n<br />\nSophie&rsquo\;s Neighborhood is a nonprofit dedicated to fundraising for research into the development of an effective treatment or cure for an ultra rare genetic disorder:&nbsp\; Multicentric Carpotarsal Osteolysis (MCTO)<br />\n<br />\nContributions to the charity directly fund critical research aimed at developing life-changing treatments for children like Sophie who currently have no other options. The need for your support is more urgent than ever. Our research partners at institutions like Harvard\, Boston Children&#39\;s\, CU Anschutz\, and Jackson Labs are facing significant reductions in government funding (from entities such as NIH and NIAMS) that previously supplemented their vital work. As a small\, independent\, family-run nonprofit\, we rely on individual contributions to bridge this funding gap and accelerate the search for a cure. Your support makes a profound difference in giving hope to those affected by MCTO.&nbsp\;<br />\n<br />\neTown Hall\, Boulder<br />\nThursday\, October 30\, 2025<br />\n7-9:30 pm with VIP early entrance at 6:15pm&nbsp\;<br />\n<br />\n<a href="https://events.humanitix.com/october-30-high-west-oyster-fest">https://events.humanitix.com/october-30-high-west-oyster-fest</a>GET TICKETS
LOCATION:eTown Hall\, Boulder
UID:e.3083.14634
SEQUENCE:3
DTSTAMP:20260421T051317Z
URL:https://members.longmontchamber.org/events/details/high-west-oyster-fest-14634
END:VEVENT

END:VCALENDAR
