BEGIN:VCALENDAR
VERSION:2.0
PRODID:-//ChamberMaster//Event Calendar 2.0//EN
METHOD:PUBLISH
X-PUBLISHED-TTL:P3D
REFRESH-INTERVAL:P3D
CALSCALE:GREGORIAN
BEGIN:VEVENT
DTSTART;VALUE=DATE:20241219
DTEND;VALUE=DATE:20241223
TRANSP:TRANSPARENT
X-MICROSOFT-CDO-ALLDAYEVENT:TRUE
SUMMARY:Holiday Bar
DESCRIPTION:Join us at Johnson's Station for our festive Holiday Bar! Enjoy stunning holiday d cor\, sip on handcrafted seasonal cocktails\, and soak in the cheerful atmosphere. Admission is free\, and it's first come\, first serve don't miss out on the magic!
X-ALT-DESC;FMTTYPE=text/html:<div>\n<div>\n<div>\n<div>Join us at Johnson&#39\;s Station for our festive Holiday Bar! Enjoy stunning holiday d&eacute\;cor\, sip on handcrafted seasonal cocktails\, and soak in the cheerful atmosphere. Admission is free\, and it&rsquo\;s first come\, first serve&mdash\;don&rsquo\;t miss out on the magic!</div>\n</div>\n</div>\n</div>\n
LOCATION:
UID:e.3083.10707
SEQUENCE:3
DTSTAMP:20260421T204221Z
URL:https://members.longmontchamber.org/events/details/holiday-bar-12-19-2024-10707
END:VEVENT

END:VCALENDAR
