BEGIN:VCALENDAR
VERSION:2.0
PRODID:-//ChamberMaster//Event Calendar 2.0//EN
METHOD:PUBLISH
X-PUBLISHED-TTL:P3D
REFRESH-INTERVAL:P3D
CALSCALE:GREGORIAN
BEGIN:VEVENT
DTSTART:20221126T230000Z
DTEND:20221127T040000Z
X-MICROSOFT-CDO-ALLDAYEVENT:FALSE
SUMMARY:Holiday Gift Market
DESCRIPTION:Small Business Saturday!\n\nShop local markers & ready-to-eat and to-go food options\n\nEnjoy live music and a cash bar while looking around\n\nChair massages available for purchase
X-ALT-DESC;FMTTYPE=text/html:<span style="color:rgb(5\, 5\, 5)\; font-family:segoe ui historic\,segoe ui\,helvetica\,arial\,sans-serif\; font-size:15px">Small Business Saturday!</span><br />\n<span style="color:rgb(5\, 5\, 5)\; font-family:segoe ui historic\,segoe ui\,helvetica\,arial\,sans-serif\; font-size:15px">Shop local markers &amp\; ready-to-eat and to-go food options</span><br />\n<span style="color:rgb(5\, 5\, 5)\; font-family:segoe ui historic\,segoe ui\,helvetica\,arial\,sans-serif\; font-size:15px">Enjoy live music and a cash bar while looking around<br />\nChair massages available for purchase</span>
LOCATION:The Times Collaborative 338 Main St Longmont CO 80501
UID:e.3083.9254
SEQUENCE:3
DTSTAMP:20260423T130821Z
URL:https://members.longmontchamber.org/events/details/holiday-gift-market-9254
END:VEVENT

END:VCALENDAR
