BEGIN:VCALENDAR
VERSION:2.0
PRODID:-//ChamberMaster//Event Calendar 2.0//EN
METHOD:PUBLISH
X-PUBLISHED-TTL:P3D
REFRESH-INTERVAL:P3D
CALSCALE:GREGORIAN
BEGIN:VEVENT
DTSTART:20241212T233000Z
DTEND:20241213T023000Z
X-MICROSOFT-CDO-ALLDAYEVENT:FALSE
SUMMARY:Holiday Open House
DESCRIPTION:Holiday Decor Open House   Thursday\, December 12\, 2024\, from 4:30pm   7:30pm\n\nCallahan House will be decorated for the holidays! Self-tour through Callahan House with handouts and historical information provided throughout the house by board members and staff.\n\nFree and open to the public. No registration required. Santa is NOT present at this event.
X-ALT-DESC;FMTTYPE=text/html:<h3>Holiday Decor Open House &ndash\; Thursday\, December 12\, 2024\, from 4:30pm &ndash\; 7:30pm</h3>\n\n<p>Callahan House will be decorated for the holidays!&nbsp\;Self-tour through Callahan House with handouts and historical information provided throughout the house by board members and staff.</p>\n\n<p>Free and open to the public. No registration required. Santa is NOT present at this event.</p>\n
LOCATION:Callahan House
UID:e.3083.10293
SEQUENCE:3
DTSTAMP:20260421T203935Z
URL:https://members.longmontchamber.org/events/details/holiday-open-house-10293
END:VEVENT

END:VCALENDAR
