BEGIN:VCALENDAR
VERSION:2.0
PRODID:-//ChamberMaster//Event Calendar 2.0//EN
METHOD:PUBLISH
X-PUBLISHED-TTL:P3D
REFRESH-INTERVAL:P3D
CALSCALE:GREGORIAN
BEGIN:VEVENT
DTSTART:20250531T203000Z
DTEND:20250531T230000Z
X-MICROSOFT-CDO-ALLDAYEVENT:FALSE
SUMMARY:Holistic Health & Wellness Fair
DESCRIPTION:Brain Training Lounge will be exhibiting at the First Annual Holistic Health and Wellness Fair presented by Soul Tree Yoga and Laura Darby\, MD of Unpeel Functional Medicine Weight Loss & Med Spa!\n\n \n\nCome join us at Soul Tree Yoga for an afternoon filled with holistic vendors and opportunities to connect with the community.  Explore exciting approaches to enhance your physical\, mental\, and emotional wellness.  Prizes will be awarded to attendees.
X-ALT-DESC;FMTTYPE=text/html:<div><span style="font-size:22px\;"><span style="font-family:verdana"><strong>Brain Training Lounge will be exhibiting at the First Annual Holistic Health and Wellness Fair </strong>presented by Soul Tree Yoga and Laura Darby\, MD of Unpeel Functional Medicine Weight Loss &amp\; Med Spa!</span></span></div>\n\n<div>&nbsp\;</div>\n\n<div><span style="font-size:22px\;"><span style="font-family:verdana">Come join us at Soul Tree Yoga for an afternoon filled with holistic vendors and opportunities to connect with the community.&nbsp\; Explore exciting approaches to enhance your physical\, mental\, and emotional wellness.&nbsp\; Prizes will be awarded to attendees.</span></span></div>\n
LOCATION:
UID:e.3083.13460
SEQUENCE:3
DTSTAMP:20260421T125517Z
URL:https://members.longmontchamber.org/events/details/holistic-health-wellness-fair-13460
END:VEVENT

END:VCALENDAR
