BEGIN:VCALENDAR
VERSION:2.0
PRODID:-//ChamberMaster//Event Calendar 2.0//EN
METHOD:PUBLISH
X-PUBLISHED-TTL:P3D
REFRESH-INTERVAL:P3D
CALSCALE:GREGORIAN
BEGIN:VEVENT
DTSTART:20241116T170000Z
DTEND:20241116T200000Z
X-MICROSOFT-CDO-ALLDAYEVENT:FALSE
SUMMARY:Holistic Wellness Party
DESCRIPTION:This event is for anyone of any age that wants to manage stress and core mental & physical health through holistic modalities. Less masking & surviving. More healing & thriving.\n\n\n\nFeaturing Susan M. S. Lindgren of Brain Training Lounge\, Jennifer Condon Knowles with Blessed Be Bodywork\, and Sara Rose DeAloia\, FDN-P. Join us to learn about effective tools to promote nervous system health & mind-body wellness in a relaxed & fun atmosphere.\n\n\n\n  Information\n\n  Free Mini Sessions\n\n  Giveaway\n\n  Gift Bags\n\n  CranioSacral Therapy\, Reiki\, Core Synchronism\n\n  NeurOptimal  Neurofeedback\n\n  Functional Nutrition\n\n  MediCrystal  Far-Infrared Treatment\n\n\n\nSnacks and light refreshments will be provided. The Longmont Social's cash bar includes a Kava Bar\, mocktails\, energy teas\, beer\, wine\, games & entertainment. We are excited to partner with The Longmont Social to host our event! See you at the party!
X-ALT-DESC;FMTTYPE=text/html:<span dir="ltr">This event is for anyone of any age that wants to manage stress and core mental &amp\; physical health through holistic modalities. Less masking &amp\; surviving. More healing &amp\; thriving.<br />\n<br />\nFeaturing Susan M. S. Lindgren of Brain Training Lounge\, Jennifer Condon Knowles with Blessed Be Bodywork\, and Sara Rose DeAloia\, FDN-P.&nbsp\;Join us to learn about effective tools to promote nervous system health &amp\; mind-body wellness in a relaxed &amp\; fun atmosphere.<br />\n<br />\n&bull\; Information<br />\n&bull\; Free Mini Sessions<br />\n&bull\; Giveaway<br />\n&bull\; Gift Bags<br />\n&bull\; CranioSacral Therapy\, Reiki\, Core Synchronism<br />\n&bull\; NeurOptimal&reg\; Neurofeedback<br />\n&bull\; Functional Nutrition<br />\n&bull\; MediCrystal&reg\; Far-Infrared Treatment<br />\n<br />\nSnacks and light refreshments will be provided. The Longmont Social&#39\;s cash bar includes a Kava Bar\, mocktails\, energy teas\, beer\, wine\, games &amp\; entertainment. We are excited to partner with The Longmont Social to host our event! See you at the party!</span>
LOCATION:The Longmont Social
UID:e.3083.10285
SEQUENCE:3
DTSTAMP:20260421T223127Z
URL:https://members.longmontchamber.org/events/details/holistic-wellness-party-10285
END:VEVENT

END:VCALENDAR
