BEGIN:VCALENDAR
VERSION:2.0
PRODID:-//ChamberMaster//Event Calendar 2.0//EN
METHOD:PUBLISH
X-PUBLISHED-TTL:P3D
REFRESH-INTERVAL:P3D
CALSCALE:GREGORIAN
BEGIN:VEVENT
DTSTART;VALUE=DATE:20200501
DTEND;VALUE=DATE:20200504
TRANSP:TRANSPARENT
X-MICROSOFT-CDO-ALLDAYEVENT:TRUE
SUMMARY:Hunger Hurts the Whole Community Virtual Fund & Food Drive
DESCRIPTION:Stock the shelves of 40 local food pantries and meal programs during the Hunger Hurts the Whole Community Virtual Fund & Food Drive. In the midst of the coronavirus pandemic\, this annual\, give-back event is needed now more than ever. As hunger takes an even greater toll on our neighbors\, help us raise enough funds to provide 32\,000 meals through Community Food Share's programs and partners.\n\n\n\nTo find out how to get involved\, visit the event webpage. \n\n\n\nTo find out how to get involved\, visit the event webpage.
X-ALT-DESC;FMTTYPE=text/html:<span style="color:rgb(65\, 64\, 66)\; font-family:lucida sans unicode\,lucida grande\,sans-serif\,arial\,helvetica\,sans-serif\; font-size:15px">Stock the shelves of&nbsp\;</span><a href="https://communityfoodshare.org/about-us/partner-agencies/" style="color: rgb(34\, 125\, 127)\; box-sizing: border-box\; text-decoration-line: none\; transition-property: color\, background-color\, border-color\; transition-duration: 0.2s\; transition-timing-function: linear\; font-family: &quot\;Lucida Sans Unicode&quot\;\, &quot\;Lucida Grande&quot\;\, sans-serif\, Arial\, Helvetica\, sans-serif\; font-size: 15px\;">40 local food pantries and meal programs</a><span style="color:rgb(65\, 64\, 66)\; font-family:lucida sans unicode\,lucida grande\,sans-serif\,arial\,helvetica\,sans-serif\; font-size:15px">&nbsp\;during the&nbsp\;</span><span style="color:rgb(65\, 64\, 66)\; font-family:lucida sans unicode\,lucida grande\,sans-serif\,arial\,helvetica\,sans-serif\; font-size:15px">Hunger</span><span style="color:rgb(65\, 64\, 66)\; font-family:lucida sans unicode\,lucida grande\,sans-serif\,arial\,helvetica\,sans-serif\; font-size:15px">&nbsp\;</span><span style="color:rgb(65\, 64\, 66)\; font-family:lucida sans unicode\,lucida grande\,sans-serif\,arial\,helvetica\,sans-serif\; font-size:15px">Hurts</span><span style="color:rgb(65\, 64\, 66)\; font-family:lucida sans unicode\,lucida grande\,sans-serif\,arial\,helvetica\,sans-serif\; font-size:15px">&nbsp\;the Whole Community Virtual Fund &amp\; Food Drive. In the midst of the coronavirus pandemic\, this annual\, give-back event is needed now more than ever. As hunger takes an even greater toll on our neighbors\, help us raise enough funds to provide 32\,000 meals through Community Food Share&rsquo\;s programs and partners.</span><br />\n<br />\n<span style="color:rgb(65\, 64\, 66)"><span style="font-family:lucida sans unicode\,sans-serif"><span style="font-size:11.5pt">To find out how to get involved\, visit the&nbsp\;<a href="https://communityfoodshare.org/hunger-hurts/">event webpage</a>.&nbsp\;</span></span></span><br />\n<br />\n<span style="color:rgb(65\, 64\, 66)"><span style="font-family:lucida sans unicode\,sans-serif"><span style="font-size:11.5pt">To find out how to get involved\, visit the&nbsp\;<a href="https://communityfoodshare.org/hunger-hurts/">event webpage</a>.&nbsp\;</span></span></span>
LOCATION:All the ways to get involved have now been moved online due to the coronavirus pandemic. To participate\, visit www.communityfoodshare.org/hunger-hurts.
UID:e.3083.7563
SEQUENCE:3
DTSTAMP:20260425T135007Z
URL:https://members.longmontchamber.org/events/details/hunger-hurts-the-whole-community-fund-food-drive-7563
END:VEVENT

END:VCALENDAR
