BEGIN:VCALENDAR
VERSION:2.0
PRODID:-//ChamberMaster//Event Calendar 2.0//EN
METHOD:PUBLISH
X-PUBLISHED-TTL:P3D
REFRESH-INTERVAL:P3D
CALSCALE:GREGORIAN
BEGIN:VEVENT
DTSTART:20221112T000000Z
DTEND:20221112T040000Z
X-MICROSOFT-CDO-ALLDAYEVENT:FALSE
SUMMARY:I Love Leo's Non-Profit Launch
DESCRIPTION:Join us in celebrating the official launch of new chamber member\, I Love Leo's! \n\n\n\nWe'll be celebrating I Love Leo's at Copper Sky Distillery with a ribbon cutting at 5:15pm. We'll also be honoring Veterans for their service during this event on Veteran's Day. \n\n\n\nI Love Leo's is a non-profit whose mission is to honor & respect law enforcement and to bridge the gap between law enforcement & our communities.
X-ALT-DESC;FMTTYPE=text/html:Join us in celebrating the official launch of new chamber member\, I Love Leo&#39\;s!&nbsp\;<br />\n<br />\nWe&#39\;ll be celebrating I Love Leo&#39\;s at Copper Sky Distillery with a ribbon cutting at 5:15pm. We&#39\;ll also be honoring Veterans for their service during this event on Veteran&#39\;s Day.&nbsp\;<br />\n<br />\nI Love Leo&#39\;s is a non-profit whose mission is to honor &amp\; respect law enforcement and to bridge the gap between law enforcement &amp\; our communities.&nbsp\;&nbsp\;<br />\n
LOCATION:Copper Sky Distillery 110 Emery St\, Suite C Longmont\, CO 80501
UID:e.3083.9120
SEQUENCE:3
DTSTAMP:20260423T131001Z
URL:https://members.longmontchamber.org/events/details/i-love-leo-s-non-profit-launch-9120
END:VEVENT

END:VCALENDAR
