BEGIN:VCALENDAR
VERSION:2.0
PRODID:-//ChamberMaster//Event Calendar 2.0//EN
METHOD:PUBLISH
X-PUBLISHED-TTL:P3D
REFRESH-INTERVAL:P3D
CALSCALE:GREGORIAN
BEGIN:VEVENT
DTSTART;VALUE=DATE:20231005
DTEND;VALUE=DATE:20231006
TRANSP:TRANSPARENT
X-MICROSOFT-CDO-ALLDAYEVENT:TRUE
SUMMARY:In-person Training @ Pinnacol Assurance: OSHA 30-Hr for Construction\, Oct. 5-6 & 12-13:
DESCRIPTION:OSHA recommends Outreach Training Program courses as an orientation to occupational safety and health for workers covered by OSHA 29 CFR  1926. Workers must receive additional training\, when required by OSHA standards\, on the specific hazards of the job. This OSHA 30-Hour for Construction training will be held over four days: October 5-6 & 12-13 from 8 a.m. - 5 p.m. at Pinnacol Assurance. Pricing for this training is $299 for policyholders per person and $375 for non-policyholders per person.
X-ALT-DESC;FMTTYPE=text/html:<span style="color:rgba(0\, 0\, 0\, 0.8)\; font-family:roboto\,sans-serif\; font-size:18px">OSHA recommends Outreach Training Program courses as an orientation to occupational safety and health for workers covered by OSHA 29 CFR &sect\;1926. Workers must receive additional training\, when required by OSHA standards\, on the specific hazards of the job. This OSHA 30-Hour for Construction training will be held over four days: October 5-6 &amp\; 12-13 from 8 a.m. - 5 p.m. at Pinnacol Assurance. Pricing for this training is $299 for policyholders per person and $375 for non-policyholders per person.</span>
LOCATION:Pinnacol Assurance Address: 7501 E Lowry Blvd\, Denver\, CO 80230
UID:e.3083.9953
SEQUENCE:3
DTSTAMP:20260422T215526Z
URL:https://members.longmontchamber.org/events/details/in-person-training-pinnacol-assurance-osha-30-hr-for-construction-oct-5-6-12-13-9953
END:VEVENT

END:VCALENDAR
