BEGIN:VCALENDAR
VERSION:2.0
PRODID:-//ChamberMaster//Event Calendar 2.0//EN
METHOD:PUBLISH
X-PUBLISHED-TTL:P3D
REFRESH-INTERVAL:P3D
CALSCALE:GREGORIAN
BEGIN:VEVENT
DTSTART:20230928T140000Z
DTEND:20230928T183000Z
X-MICROSOFT-CDO-ALLDAYEVENT:FALSE
SUMMARY:In-person training @ Pinnacol Assurance / September 28\, 2023 Scaffold Safety
DESCRIPTION:Are you ready for an adventure? Learn how to safely erect and use scaffolding on July 13 from 8 a.m. - 12 p.m. at @PinnacolAssurance. Policyholders pay $149 per person and non-policyholders pay $175 per person
X-ALT-DESC;FMTTYPE=text/html:<span style="color:rgb(66\, 66\, 66)\; font-family:arial\,helvetica\,sans-serif\; font-size:13.3333px">Are you ready for an adventure? Learn how to safely erect and use scaffolding on July 13 from 8 a.m. - 12 p.m. at @PinnacolAssurance. Policyholders pay $149 per person and non-policyholders pay $175 per person</span>
LOCATION:Pinnacol Assurance Address: 7501 E Lowry Blvd\, Denver\, CO 80230
UID:e.3083.9952
SEQUENCE:3
DTSTAMP:20260422T215403Z
URL:https://members.longmontchamber.org/events/details/in-person-training-pinnacol-assurance-september-28-2023-scaffold-safety-9952
END:VEVENT

END:VCALENDAR
