BEGIN:VCALENDAR
VERSION:2.0
PRODID:-//ChamberMaster//Event Calendar 2.0//EN
METHOD:PUBLISH
X-PUBLISHED-TTL:P3D
REFRESH-INTERVAL:P3D
CALSCALE:GREGORIAN
BEGIN:VEVENT
DTSTART:20230922T233000Z
DTEND:20230923T030000Z
X-MICROSOFT-CDO-ALLDAYEVENT:FALSE
SUMMARY:In Their Words: A Night of Restorative Storytelling
DESCRIPTION:Join Longmont Community Justice Partnership for this one-of-a-kind fundraiser\, and learn about the impact of Restorative Justice in Longmont!\n\nThis unique fundraising event invites the community to listen to powerful accounts of relationships being healed\, stories of growth and resilience\, and experiences of community belonging and reintegration. In addition to these captivating stories\, we will be dining with Rev Mex Food Truck and Catering\, offering wonderful tacos prepared by a superb chef. Vegetarian options will be available. And you'll be invited to stay for some beats and treats at the end of the night! We'll dance to some funky tunes\, and indulge in some ice cream served by LCJP's Board of Directors!\n\nYour support will help us expand our community programming which redefines what justice means by shifting the focus from punishment to healing\, restoration\, and reconciliation. Invite your friends and family to join us for this night of impact!
X-ALT-DESC;FMTTYPE=text/html:<p>Join Longmont Community Justice Partnership for this one-of-a-kind fundraiser\, and learn about the impact of Restorative Justice in Longmont!</p>\n\n<p>This unique fundraising event invites the community to listen to powerful accounts of relationships being healed\, stories of growth and resilience\, and experiences of community belonging and reintegration. In addition to these captivating stories\, we will be dining with Rev Mex Food Truck and Catering\, offering wonderful tacos prepared by a superb chef. Vegetarian options will be available. And you&#39\;ll be invited to stay for some beats and treats at the end of the night! We&#39\;ll dance to some funky tunes\, and indulge in some ice cream served by LCJP&#39\;s Board of Directors!</p>\n\n<p>Your support will help us expand our community programming which redefines what justice means by shifting the focus from punishment to healing\, restoration\, and reconciliation. Invite your friends and family to join us for this night of impact!</p>\n
LOCATION:The Longmont Museum\, 400 Quail Rd\, Longmont CO 80501
UID:e.3083.9945
SEQUENCE:3
DTSTAMP:20260422T215357Z
URL:https://members.longmontchamber.org/events/details/in-their-words-a-night-of-restorative-storytelling-9945
END:VEVENT

END:VCALENDAR
