BEGIN:VCALENDAR
VERSION:2.0
PRODID:-//ChamberMaster//Event Calendar 2.0//EN
METHOD:PUBLISH
X-PUBLISHED-TTL:P3D
REFRESH-INTERVAL:P3D
CALSCALE:GREGORIAN
BEGIN:VEVENT
DTSTART:20250517T003000Z
DTEND:20250517T020000Z
X-MICROSOFT-CDO-ALLDAYEVENT:FALSE
SUMMARY:Incense Making
DESCRIPTION:In this hands-on workshop\, you will learn how to choose and blend herbs\, resins\, and oils to create incense with magical intention. We will mix an incense together\, and you will get to blend and name one of your own. We'll discuss various methods of burning\, and even some pitfalls to avoid! We'll cover some of the long history of incense\, and how aroma can set the stage for a magical experience. \n\n\n\nRegister here https://www.butterscotchstudios.com/event-details-registration/incense-making
X-ALT-DESC;FMTTYPE=text/html:<br />\n<span style="color:rgb(78\, 56\, 21)\; font-family:avenir-lt-w01_85-heavy1475544\,sans-serif\; font-size:16px"><span style="font-size:20px\;">In this hands-on workshop\, you will learn how to choose and blend herbs\, resins\, and oils to create incense with magical intention. We will mix an incense together\, and you will get to blend and name one of your own. We&rsquo\;ll discuss various methods of burning\, and even some pitfalls to avoid! We&rsquo\;ll cover some of the long history of incense\, and how aroma can set the stage for a magical experience.&nbsp\;<br />\n<br />\nRegister here&nbsp\;</span></span><a href="https://www.butterscotchstudios.com/event-details-registration/incense-making"><span style="font-size:20px\;">https://www.butterscotchstudios.com/event-details-registration/incense-making</span></a>
LOCATION:Butterscotch Studios
UID:e.3083.13313
SEQUENCE:3
DTSTAMP:20260421T124457Z
URL:https://members.longmontchamber.org/events/details/incense-making-13313
END:VEVENT

END:VCALENDAR
