BEGIN:VCALENDAR
VERSION:2.0
PRODID:-//ChamberMaster//Event Calendar 2.0//EN
METHOD:PUBLISH
X-PUBLISHED-TTL:P3D
REFRESH-INTERVAL:P3D
CALSCALE:GREGORIAN
BEGIN:VEVENT
DTSTART:20200617T200000Z
DTEND:20200617T210000Z
X-MICROSOFT-CDO-ALLDAYEVENT:FALSE
SUMMARY:Innovative Investing in a New Economy Webinar
DESCRIPTION:You are invited to join Frank Oliver\, Owner and CEO of \n\nOliver Asset Management\, and Kize Behrends\, Vice President \n\nof Global X ETFs\, for a very important educational \n\nwebinar on Innovative Investing in a New Economy on \n\nWednesday\, June 17th at 2:00 pm MDT. \n\n \n\nThe following topics will be covered:\n\n- Learn how thematic disruptors affect our socially distanced economy\n\n- How to position thematic investing into your portfolio\n\n- Understand how disrupting events historically have impacted the \n\nworld economy\n\n- Artificial Intelligence\, Biotech\, Cyber Security\, and more!\n\n\n\nTo learn about these powerful tax saving strategies\, click the link below to register:\n\nhttps://us02web.zoom.us/meeting/register/tZAuc-ippjIuHNLQ8Pmof47lEL-5oxApDBd6
X-ALT-DESC;FMTTYPE=text/html:<div style="text-align:center"><span style="color:rgb(51\, 51\, 51)\; font-size:22px">You are invited to join Frank Oliver\, Owner and CEO of </span></div>\n\n<div style="text-align:center"><span style="color:rgb(51\, 51\, 51)\; font-size:22px">Oliver Asset Management\, and Kize Behrends\, Vice President </span></div>\n\n<div style="text-align:center"><span style="color:rgb(51\, 51\, 51)\; font-size:22px">of Global X ETFs\, for a very important educational </span></div>\n\n<div style="text-align:center"><span style="color:rgb(51\, 51\, 51)\; font-size:22px">webinar on Innovative Investing in a New Economy on </span></div>\n\n<div style="text-align:center"><span style="color:rgb(51\, 51\, 51)\; font-size:22px">Wednesday\, June 17th at 2:00 pm MDT. </span></div>\n\n<div style="text-align:center">&nbsp\;</div>\n\n<div><span style="color:rgb(51\, 51\, 51)\; font-size:18px">The following topics will be covered:</span></div>\n\n<div><span style="color:rgb(0\, 0\, 0)\; font-size:18px">-&nbsp\;Learn how thematic disruptors affect our socially distanced economy</span></div>\n\n<div><span style="color:rgb(0\, 0\, 0)\; font-size:18px">-&nbsp\;How to position thematic investing into your portfolio</span></div>\n\n<div><span style="color:rgb(0\, 0\, 0)\; font-size:18px">-&nbsp\;Understand how disrupting events historically have impacted the </span></div>\n\n<div><span style="color:rgb(0\, 0\, 0)\; font-size:18px">world economy</span></div>\n\n<div><span style="color:rgb(0\, 0\, 0)\; font-size:18px">-&nbsp\;Artificial Intelligence\, Biotech\, Cyber Security\, and more!<br />\n<br />\nTo learn about these powerful tax saving strategies\, click the link below to register:</span><br />\n<a href="https://us02web.zoom.us/meeting/register/tZAuc-ippjIuHNLQ8Pmof47lEL-5oxApDBd6" style="box-sizing: border-box\; background-image: initial\; background-position: initial\; background-size: initial\; background-repeat: initial\; background-attachment: initial\; background-origin: initial\; background-clip: initial\; color: rgb(14\, 113\, 235)\; text-decoration-line: none\; font-family: Lato\, Helvetica\, Arial\; font-size: 14px\; overflow-wrap: break-word\;" target="_blank">https://us02web.zoom.us/meeting/register/tZAuc-ippjIuHNLQ8Pmof47lEL-5oxApDBd6</a></div>\n
LOCATION:Webinar
UID:e.3083.7615
SEQUENCE:3
DTSTAMP:20260425T134627Z
URL:https://members.longmontchamber.org/events/details/innovative-investing-in-a-new-economy-webinar-7615
END:VEVENT

END:VCALENDAR
