BEGIN:VCALENDAR
VERSION:2.0
PRODID:-//ChamberMaster//Event Calendar 2.0//EN
METHOD:PUBLISH
X-PUBLISHED-TTL:P3D
REFRESH-INTERVAL:P3D
CALSCALE:GREGORIAN
BEGIN:VEVENT
DTSTART:20250525T190000Z
DTEND:20250525T210000Z
X-MICROSOFT-CDO-ALLDAYEVENT:FALSE
SUMMARY:Jazz on the Front Porch - Charles Blenzig Trio
DESCRIPTION:Join us on the front lawn of Butterscotch Studios from 1pm-3pm for the 1st of our FREE Summer Sunday Jazz on the Porch series!\n\n\n\nThe Charles Benzig Trio will provide the perfect soundtrack for a relaxing summer afternoon. Bring a lawn chair and a snack\, and enjoy great music and community!
X-ALT-DESC;FMTTYPE=text/html:<br />\n<span style="color:rgb(78\, 56\, 21)\; font-family:avenir-lt-w01_85-heavy1475544\,sans-serif\; font-size:15px"><span style="font-size:20px\;">Join us on the front lawn of Butterscotch Studios from 1pm-3pm for the 1st of our FREE Summer Sunday Jazz on the Porch series!<br />\n<br />\nThe Charles Benzig Trio will provide the perfect soundtrack for a relaxing summer afternoon. Bring a lawn chair and a snack\, and enjoy great music and community!</span></span>
LOCATION:Butterscotch Studios
UID:e.3083.13315
SEQUENCE:3
DTSTAMP:20260421T130607Z
URL:https://members.longmontchamber.org/events/details/jazz-on-the-front-porch-charles-blenzig-trio-13315
END:VEVENT

END:VCALENDAR
