BEGIN:VCALENDAR
VERSION:2.0
PRODID:-//ChamberMaster//Event Calendar 2.0//EN
METHOD:PUBLISH
X-PUBLISHED-TTL:P3D
REFRESH-INTERVAL:P3D
CALSCALE:GREGORIAN
BEGIN:VEVENT
DTSTART:20201204T023000Z
DTEND:20201204T033000Z
X-MICROSOFT-CDO-ALLDAYEVENT:FALSE
SUMMARY:Jubilee 2020
DESCRIPTION:Buying a Longmont Celebration box? You're in the right place! Click the "Register Now" button above to order your box. Don't worry\, you're not registering for an event. The wording is a limitation with our secure payment system. Thanks!\n\n\n\nInterested in viewing our business award ceremony\, Jubilee? Click here to watch!\n\n\n\nJoin us December 3rd for a virtual awards ceremony to recognize the incredible work of Longmont businesses. The show will premiere at 7:30 pm on YouTube and Facebook and we will release the link for the show prior to the event. Award categories include:\n\n \nBusiness of the Year\n\nA business that has been in operation for at least 3 years and has demonstrated profitability\, growth\, sustainability\, and a commitment to the Longmont community.\n\n\n\nEmerging Business\n\nA business that has been in operation for fewer than 5 years and demonstrates incredible potential.\n\n\n\nLegacy Business\n\nAn outstanding business that has been a member of the Longmont Area Chamber of Commerce for 15 or more years.\n\n\n\nNonprofit of the Year\n\nA registered 501(c)3 nonprofit organization that has significantly contributed to the betterment of our community.
X-ALT-DESC;FMTTYPE=text/html:<span style="font-size:22px\;"><strong>Buying a Longmont Celebration box? You&#39\;re in the right place! Click the &quot\;Register Now&quot\; button above to order your box. Don&#39\;t worry\, you&#39\;re not registering for an event. The wording is a limitation with our secure payment system. Thanks!<br />\n<br />\nInterested in viewing our business award ceremony\, Jubilee? <a href="https://bit.ly/3odHKTo">Click here to watch!</a></strong></span><br />\n<br />\nJoin us December 3rd for a virtual awards ceremony to recognize the incredible work of Longmont businesses. The show will premiere at 7:30 pm on <a href="https://www.youtube.com/user/LongmontChamber">YouTube</a> and <a href="https://www.facebook.com/LongmontChamber">Facebook</a> and we will release the link for the show prior to the event.&nbsp\;Award categories include:<br />\n&nbsp\;\n<div style="margin-left: 40px\;"><strong><em>Business of the Year</em></strong><br />\nA business that has been in operation for at least 3 years and has demonstrated profitability\, growth\, sustainability\, and a commitment to the Longmont community.<br />\n<br />\n<strong><em>Emerging Business</em></strong><br />\nA business that has been in operation for fewer than 5 years and demonstrates incredible potential.<br />\n<br />\n<strong><em>Legacy Business</em></strong><br />\nAn outstanding business that has been a member of the Longmont Area Chamber of Commerce for 15 or more years.<br />\n<br />\n<strong><em>Nonprofit of the Year</em></strong><br />\nA registered 501(c)3 nonprofit organization that has significantly contributed to the betterment of our community.</div>\n
LOCATION:
UID:e.3083.7367
SEQUENCE:3
DTSTAMP:20260425T021355Z
URL:https://members.longmontchamber.org/events/details/jubilee-2020-7367
END:VEVENT

END:VCALENDAR
