BEGIN:VCALENDAR
VERSION:2.0
PRODID:-//ChamberMaster//Event Calendar 2.0//EN
METHOD:PUBLISH
X-PUBLISHED-TTL:P3D
REFRESH-INTERVAL:P3D
CALSCALE:GREGORIAN
BEGIN:VEVENT
DTSTART:20191206T003000Z
DTEND:20191206T033000Z
X-MICROSOFT-CDO-ALLDAYEVENT:FALSE
SUMMARY:Jubilee
DESCRIPTION:Celebrate business in Longmont at Jubilee! On December 5th\, the Longmont Area Chamber of Commerce community will come together at The St. Vrain to honor the businesses that left their mark on Longmont this year\, as well as review what we have accomplished for you in 2019.\n\n\n\nBreaking from tradition\, we have changed the award categories and criteria to better reflect businesses and acknowledge them based on their merits. The new categories are:\n\n \nBusiness of the Year\n\nA business that has been in operation for at least 3 years and has demonstrated profitability\, growth\, sustainability\, and a commitment to the Longmont community.\n\n\n\nEmerging Business\n\nA business that has been in operation for fewer than 5 years and demonstrates incredible potential.\n\n\n\nLegacy Business\n\nAn outstanding business that has been a member of the Longmont Area Chamber of Commerce for 15 or more years.\n\n\n\nNonprofit of the Year\n\nA registered 501(c)3 nonprofit organization that has significantly contributed to the betterment of our community.\n\n\n\nDistinguished Service\n\nAn outstanding business that has significantly contributed to Longmont Area Chamber of Commerce operations of the Longmont community at large.\n\n\nIf you know of a business that you believe should be recognized in one of these categories\, please show them your appreciation by nominating them here. \n\n\n\nGuests will be treated to a plated dinner from Sugar Pine Catering\, and wine and beer will be available for purchase at the event bar.
X-ALT-DESC;FMTTYPE=text/html:Celebrate business in Longmont at Jubilee! On December 5th\, the Longmont Area Chamber of Commerce community will come together at The St. Vrain to honor the businesses that left their mark on Longmont this year\, as well as review what we have accomplished for you in 2019.<br />\n<br />\nBreaking from tradition\, we have changed the award categories and criteria to better reflect businesses and acknowledge them based on their merits. The new categories are:<br />\n&nbsp\;\n<div style="margin-left: 40px\;"><strong><em>Business of the Year</em></strong><br />\nA business that has been in operation for at least 3 years and has demonstrated profitability\, growth\, sustainability\, and a commitment to the Longmont community.<br />\n<br />\n<strong><em>Emerging Business</em></strong><br />\nA business that has been in operation for fewer than 5 years and demonstrates incredible potential.<br />\n<br />\n<strong><em>Legacy Business</em></strong><br />\nAn outstanding business that has been a member of the Longmont Area Chamber of Commerce for 15 or more years.<br />\n<br />\n<strong><em>Nonprofit of the Year</em></strong><br />\nA registered 501(c)3 nonprofit organization that has significantly contributed to the betterment of our community.<br />\n<br />\n<strong><em>Distinguished Service</em></strong><br />\nAn outstanding business that has significantly contributed to Longmont Area Chamber of Commerce operations of the Longmont community at large.</div>\n<br />\nIf you know of a business that you believe should be recognized in one of these categories\, <a href="https://forms.gle/TW8HVf5SktxfYTMJ9">please show them your appreciation by nominating them here</a>.&nbsp\;<br />\n<br />\nGuests will be treated to a plated dinner from Sugar Pine Catering\, and wine and beer will be available for purchase at the event bar.
LOCATION:The St. Vrain 635 3rd Avenue Longmont\, CO\, 80501
UID:e.3083.6895
SEQUENCE:3
DTSTAMP:20260425T213559Z
URL:https://members.longmontchamber.org/events/details/jubilee-6895
END:VEVENT

END:VCALENDAR
