BEGIN:VCALENDAR
VERSION:2.0
PRODID:-//ChamberMaster//Event Calendar 2.0//EN
METHOD:PUBLISH
X-PUBLISHED-TTL:P3D
REFRESH-INTERVAL:P3D
CALSCALE:GREGORIAN
BEGIN:VEVENT
DTSTART:20250616T160000Z
DTEND:20250616T210000Z
X-MICROSOFT-CDO-ALLDAYEVENT:FALSE
SUMMARY:Kids Summer Creative Camp at Butterscotch Studios
DESCRIPTION:Join the Fun at Butterscotch Studios' Kids Summer Camp!\n\nLooking for a summer camp that's creative\, musical\, and full of movement? Butterscotch Studios has you covered!\n\n\n	Group Ukulele   Kids will strum and sing along as they learn to play fun tunes together.\n	Arts & Crafts   Let their creativity shine with hands-on projects and imaginative creations.\n	Lunch & Play at the Park   Hula hoops\, bubbles\, tag\, and park games make for an active and playful midday break.\n	American Sign Language Fun   Interactive ASL lessons bring a whole new way to communicate through movement and expression.\n\n\nA summer filled with music\, art\, and adventure awaits! Give your child an unforgettable experience where they can explore\, create\, and make new friends.\n\nSpots are limited register today!
X-ALT-DESC;FMTTYPE=text/html:<p><br />\n<span style="font-size:18px\;">Join the Fun at Butterscotch Studios&#39\; Kids Summer Camp!</span></p>\n\n<p><span style="font-size:18px\;">Looking for a summer camp that&rsquo\;s creative\, musical\, and full of movement? Butterscotch Studios has you covered!</span></p>\n\n<ul>\n	<li><span style="font-size:18px\;">Group Ukulele&nbsp\;&ndash\; Kids will strum and sing along as they learn to play fun tunes together.</span></li>\n	<li><span style="font-size:18px\;">Arts &amp\; Crafts&nbsp\;&ndash\; Let their creativity shine with hands-on projects and imaginative creations.</span></li>\n	<li><span style="font-size:18px\;"><span style="font-size:18px\;">Lunch &amp\; Play at the Park&nbsp\;&ndash\; Hula hoops\, bubbles\, tag\, and park games make for an active and playful midday break.</span></span></li>\n	<li><span style="font-size:18px\;"><span style="font-size:18px\;"><span style="font-size:18px\;">American Sign Language Fun&nbsp\;&ndash\; Interactive ASL lessons bring a whole new way to communicate through movement and expression.</span></span></span></li>\n</ul>\n\n<p><span style="font-size:18px\;">A summer filled with music\, art\, and adventure awaits! Give your child an unforgettable experience where they can explore\, create\, and make new friends.</span></p>\n\n<p><span style="font-size:18px\;">Spots are limited&mdash\;register today!</span></p>\n
LOCATION:Butterscotch Studios
UID:e.3083.11416
SEQUENCE:3
DTSTAMP:20260421T124701Z
URL:https://members.longmontchamber.org/events/details/kids-summer-creative-camp-at-butterscotch-studios-11416
END:VEVENT

END:VCALENDAR
