BEGIN:VCALENDAR
VERSION:2.0
PRODID:-//ChamberMaster//Event Calendar 2.0//EN
METHOD:PUBLISH
X-PUBLISHED-TTL:P3D
REFRESH-INTERVAL:P3D
CALSCALE:GREGORIAN
BEGIN:VEVENT
DTSTART:20250831T230000Z
DTEND:20250901T033000Z
X-MICROSOFT-CDO-ALLDAYEVENT:FALSE
SUMMARY:Kings of Prussia: "Most Shows Spell Something" - A Phish Labor Day Tribute ft. Foggy Mountain Spaceship
DESCRIPTION:This is a free show! All ages & dogs welcome.\n\nKINGS OF PRUSSIA Presents: Most Shows Spell Something - A Phish Dicks Labor Day Celebration in the Festgarten at Wibby\n\nAugust 31st\, 2025 Doors 4pm | Show 5pm\n\nFREE. ALL AGES.\n\nKings of Prussia is Colorado's premier pure Phish Tribute act. Formed in Boulder in 2019\, Kings of Prussia\n\nis made up of talented musicians from Denver's burgeoning music scene - founded by Jason Barnes on guitar and Jack Marty on keys (Sqwerv). Zach Bulgarelli on drums (Sqwerv)\, and Brian Adams (Deadphish Orchestra) on bass round out the quartet.\n\nKings of Prussia is dedicated to providing the most authentic Phish experience possible\, and is able to achieve that via an extensive catalog of over 100 Phish songs and covers performed by Phish\, as well as their own lighting director\, dedicated to an authentic representation of the Phish CK5 light show\, state of the art equipment tailored specifically to match the gear used by Phish themselves\, and fun gags\, such as trampolines\, synchronized dances\, authentic costumes\, a capella numbers\, and even vacuum solos! I must inquire Wilson\, can you still have fun?!\n\nFor this special Labor Day Weekend show\, Kings of Prussia will be recreating Phish's 8/30/13 setlist\, well known by fans as the "Most Shows Spell Something" show.\n\n---------\n\nFOGGY MOUNTAIN SPACESHIP:\n\nIn 2022\, the cosmic convergence of three veteran Colorado musicians birthed the Foggy Mountain Spaceship\, a band forged in the starlight of serendipity. With their banjos echoing the ancient melodies of distant galaxies\, they've been on an astral journey ever since\, pushing the sonic limits of their instruments.\n\nChris Elliott\, a maestro of the 5-String banjo whose notes pluck at the strings of the universe\, drummer Chris Sheldon\, whose rhythms pulse like the heartbeats of nebulae\, and bassist/multi-instrumentalist Kyle Ussery\, weaving sonic tapestries that span the cosmos\, have amassed a galaxy of followers. Their inventive music videos\, original compositions\, and cosmic twists on popular tunes have resonated across the ether\, both online and in live gatherings.\n\nHaving shared the celestial stage with luminaries like Keller Williams and Sam Bush\, Foggy Mountain Spaceship is charting a course towards more festival dates and headlining voyages\, inviting all to join their interstellar odyssey.
X-ALT-DESC;FMTTYPE=text/html:<div>This is a free show! All ages &amp\; dogs welcome.<br />\nKINGS OF PRUSSIA Presents: Most Shows Spell Something - A Phish Dicks Labor Day Celebration in the Festgarten at Wibby</div>\n\n<div>August 31st\, 2025 Doors 4pm | Show 5pm<br />\nFREE. ALL AGES.</div>\n\n<div>Kings of Prussia is Colorado&#39\;s premier pure Phish Tribute act. Formed in Boulder in 2019\, Kings of Prussia<br />\nis made up of talented musicians from Denver&#39\;s burgeoning music scene - founded by Jason Barnes on guitar and Jack Marty on keys (Sqwerv). Zach Bulgarelli on drums (Sqwerv)\, and Brian Adams (Deadphish Orchestra) on bass round out the quartet.</div>\n\n<div>Kings of Prussia is dedicated to providing the most authentic Phish experience possible\, and is able to achieve that via an extensive catalog of over 100 Phish songs and covers performed by Phish\, as well as their own lighting director\, dedicated to an authentic representation of the Phish CK5 light show\, state of the art equipment tailored specifically to match the gear used by Phish themselves\, and fun gags\, such as trampolines\, synchronized dances\, authentic costumes\, a capella numbers\, and even vacuum solos! I must inquire Wilson\, can you still have fun?!</div>\n\n<div>For this special Labor Day Weekend show\, Kings of Prussia will be recreating Phish&#39\;s 8/30/13 setlist\, well known by fans as the &quot\;Most Shows Spell Something&quot\; show.</div>\n\n<div>---------</div>\n\n<div>FOGGY MOUNTAIN SPACESHIP:</div>\n\n<div>In 2022\, the cosmic convergence of three veteran Colorado musicians birthed the Foggy Mountain Spaceship\, a band forged in the starlight of serendipity. With their banjos echoing the ancient melodies of distant galaxies\, they&#39\;ve been on an astral journey ever since\, pushing the sonic limits of their instruments.</div>\n\n<div>Chris Elliott\, a maestro of the 5-String banjo whose notes pluck at the strings of the universe\, drummer Chris Sheldon\, whose rhythms pulse like the heartbeats of nebulae\, and bassist/multi-instrumentalist Kyle Ussery\, weaving sonic tapestries that span the cosmos\, have amassed a galaxy of followers. Their inventive music videos\, original compositions\, and cosmic twists on popular tunes have resonated across the ether\, both online and in live gatherings.</div>\n\n<div>Having shared the celestial stage with luminaries like Keller Williams and Sam Bush\, Foggy Mountain Spaceship is charting a course towards more festival dates and headlining voyages\, inviting all to join their interstellar odyssey.</div>\n
LOCATION:Wibby Brewing
UID:e.3083.14216
SEQUENCE:3
DTSTAMP:20260421T100030Z
URL:https://members.longmontchamber.org/events/details/kings-of-prussia-most-shows-spell-something-a-phish-labor-day-tribute-ft-foggy-mountain-spaceship-14216
END:VEVENT

END:VCALENDAR
