BEGIN:VCALENDAR
VERSION:2.0
PRODID:-//ChamberMaster//Event Calendar 2.0//EN
METHOD:PUBLISH
X-PUBLISHED-TTL:P3D
REFRESH-INTERVAL:P3D
CALSCALE:GREGORIAN
BEGIN:VEVENT
DTSTART:20250906T210000Z
DTEND:20250907T030000Z
X-MICROSOFT-CDO-ALLDAYEVENT:FALSE
SUMMARY:Kyle's Brew Fest & Album Release: Kyle Hollingsworth Band w/ Jen Hartswick & special friends
DESCRIPTION:Kyle's Brew Fest & Album Release Party!\n\nKyle Hollingsworth Band with very special friends\n\nAlbum Release | Brew Fest | Float Fest | Collabeeration\n\nCelebrating 10 Years of Wibby Brewing\n\nSaturday\, September 6th\, 2025 3-9pm\n\nFloating starts at 3pm | Unlimited Tasting Hours are 3:30-6pm (VIP) | 4-6pm (GA)\n\nThe Festgarten is an expansive\, dynamic\, open-air pavilion adjacent to gardens\, & yard gaming areas offering plenty of shelter from the weather and sunshine. At this fest you'll find a unique experience with exclusive pours from a host of Kyle's brewery friends (inc.n/a and g/f options) in a commemorative cup enjoyed poolside while you jam & float! All ages. Friendly-dog-friendly!\n\nKyle Hollingsworth\, keyboardist of The String Cheese Incident\, performing with Kyle's Hollingsworth Band\, benefiting Conscious Alliance\, for Kyle's Brew Fest and album release party - his new solo album All We Are. Also celebrating 10 years of Wibby Brewing!\n\nA message from Kyle Hollingsworth:\n\n"My favorite event of the year and this time it will be a massive album celebration as well\, for my upcoming album release\, All We Are. Join me with KHB plus some special friends of mine\, along with beer sampling\, beer collaborations\, swimming pools and more for a family friendly\, all ages blast! See ya September 6th in the Festgarten at Wibby Brewing in Longmont\, CO!"\n\nVIP Tickets + Private Cabana Reservations are also available providing fans early entry\, longer brewfest tasting session\, reserved seats close up\, specialty pours\, snacks\, shelter/shade\, loungey couches\, fire tables and more!\n\nThis event supports the efforts of Conscious Alliance.\n\nConscious Alliance is more than an organization. They're a network of creative people   artists\, musicians\, food makers and fans   using their time and talents to put food on the table for kids and their families across the U.S. From their first grassroots food drive to hitting our current milestone of 10 million meals\, they're about bringing people together to create a culture of giving back.\n\nHunger is a widespread problem\, so they take a multifaceted approach to ending it. They host 'Art That Feeds' Food Drives at concerts and music festivals. They partner with healthy food makers to secure large-scale donations. They empower young people to get involved by dropping philanthropic opportunities smack in the middle of a good time.\n\nThey're on a mission to make sure families get enough to eat.\n\nPlease direct all inquiries regarding brewery/vendor participation\, &/or rare sponsorship opportunities via email: robin @ wibbybrewing.com\n\nPlan accordingly for Colorful Colorado Weather.\n\nRAIN or SHINE.\n\nNO REFUNDS.
X-ALT-DESC;FMTTYPE=text/html:<div>Kyle&#39\;s Brew Fest &amp\; Album Release Party!<br />\nKyle Hollingsworth Band with very special friends</div>\n\n<div>Album Release | Brew Fest | Float Fest | Collabeeration<br />\nCelebrating 10 Years of Wibby Brewing</div>\n\n<div>Saturday\, September 6th\, 2025 3-9pm</div>\n\n<div>Floating starts at 3pm | Unlimited Tasting Hours are 3:30-6pm (VIP) | 4-6pm (GA)</div>\n\n<div>The Festgarten is an expansive\, dynamic\, open-air pavilion adjacent to gardens\, &amp\; yard gaming areas offering plenty of shelter from the weather and sunshine. At this fest you&#39\;ll find a unique experience with exclusive pours from a host of Kyle&#39\;s brewery friends (inc.n/a and g/f options) in a commemorative cup enjoyed poolside while you jam &amp\; float! All ages. Friendly-dog-friendly!</div>\n\n<div>Kyle Hollingsworth\, keyboardist of The String Cheese Incident\, performing with Kyle&#39\;s Hollingsworth Band\, benefiting Conscious Alliance\, for Kyle&#39\;s Brew Fest and album release party - his new solo album All We Are. Also celebrating 10 years of Wibby Brewing!</div>\n\n<div>A message from Kyle Hollingsworth:<br />\n&quot\;My favorite event of the year and this time it will be a massive album celebration as well\, for my upcoming album release\, All We Are. Join me with KHB plus some special friends of mine\, along with beer sampling\, beer collaborations\, swimming pools and more for a family friendly\, all ages blast! See ya September 6th in the Festgarten at Wibby Brewing in Longmont\, CO!&quot\;</div>\n\n<div>VIP Tickets + Private Cabana Reservations are also available providing fans early entry\, longer brewfest tasting session\, reserved seats close up\, specialty pours\, snacks\, shelter/shade\, loungey couches\, fire tables and more!</div>\n\n<div>This event supports the efforts of Conscious Alliance.<br />\nConscious Alliance is more than an organization. They&#39\;re a network of creative people &mdash\; artists\, musicians\, food makers and fans &mdash\; using their time and talents to put food on the table for kids and their families across the U.S. From their first grassroots food drive to hitting our current milestone of 10 million meals\, they&#39\;re about bringing people together to create a culture of giving back.<br />\nHunger is a widespread problem\, so they take a multifaceted approach to ending it. They host &lsquo\;Art That Feeds&rsquo\; Food Drives at concerts and music festivals. They partner with healthy food makers to secure large-scale donations. They empower young people to get involved by dropping philanthropic opportunities smack in the middle of a good time.<br />\nThey&#39\;re on a mission to make sure families get enough to eat.</div>\n\n<div>Please direct all inquiries regarding brewery/vendor participation\, &amp\;/or rare sponsorship opportunities via email: robin @&nbsp\;<a class="x1i10hfl xjbqb8w x1ejq31n x18oe1m7 x1sy0etr xstzfhl x972fbf x10w94by x1qhh985 x14e42zd x9f619 x1ypdohk xt0psk2 xe8uvvx xdj266r x14z9mp xat24cr x1lziwak xexx8yu xyri2b x18d9i69 x1c1uobl x16tdsg8 x1hl2dhg xggy1nq x1a2a7pz xkrqix3 x1sur9pj x1fey0fg x1s688f" href="https://l.facebook.com/l.php?u=http%3A%2F%2Fwibbybrewing.com%2F%3Ffbclid%3DIwZXh0bgNhZW0CMTAAYnJpZBExQXNNc0IyRFprOEp4WjZsVAEeupnLCxF-Ati6Zf8XETD_cA7TOP_FXYsamOzlFUmViMYGO1CE-pl86uiDjfc_aem_ilV7PsioczYos1LorMu3PQ&amp\;h=AT0z1Z5Udjizz-K5WWuRv1PuZy73WY9eo5gnot0Hs0Ois8DDd-G3NYZeCXddDmXdjZfzdyPc9nvvPxv7R8nX9qnhuk__btg2z54jp5-Wl3nPH_yTKlvsJrBbzGgmqSSxIn8KexpY4hPIIf2BmklxyQ&amp\;__tn__=q&amp\;c[0]=AT2TwJNwZjuI0bYmgknQXyZsajMS-ojRBv_qFJ_gUuTARElBqIMuk-LfKcgYXrjdhp3Y8OCog70auJtC_acmw4hX3oIIU77Ifzamf9wUh_WKP-HG7FekyHMbDE9M6MTIxJdebnCR7yj2c-auXgvMLrvsRMJkEC1KWz0" rel="nofollow noreferrer" style="color: var(--blue-link)\; cursor: pointer\; text-decoration-line: none\; list-style: none\; border-width: 0px\; margin: 0px\; text-align: inherit\; border-style: none\; padding: 0px\; box-sizing: border-box\; background-color: transparent\; outline: none\; -webkit-tap-highlight-color: transparent\; font-weight: 600\; touch-action: manipulation\; display: inline\; font-family: inherit\;" tabindex="0" target="_blank">wibbybrewing.com</a></div>\n\n<div>Plan accordingly for Colorful Colorado Weather.<br />\nRAIN or SHINE.<br />\nNO REFUNDS.</div>\n
LOCATION:Wibby Brewing
UID:e.3083.13977
SEQUENCE:3
DTSTAMP:20260421T064518Z
URL:https://members.longmontchamber.org/events/details/kyle-s-brew-fest-album-release-kyle-hollingsworth-band-w-jen-hartswick-special-friends-13977
END:VEVENT

END:VCALENDAR
