BEGIN:VCALENDAR
VERSION:2.0
PRODID:-//ChamberMaster//Event Calendar 2.0//EN
METHOD:PUBLISH
X-PUBLISHED-TTL:P3D
REFRESH-INTERVAL:P3D
CALSCALE:GREGORIAN
BEGIN:VEVENT
DTSTART:20211210T020000Z
DTEND:20211210T030000Z
X-MICROSOFT-CDO-ALLDAYEVENT:FALSE
SUMMARY:(Last Chance Box Sales!) Jubilee: Celebrate Business in Longmont
DESCRIPTION:Last chance to buy your Longmont Celebration Box! We have just a few left\, so if you loved your box and want another or if you saw someone else's and are understandably jealous\, you have until midnight on Tuesday\, 12/14 to snag one of the last ones!\n\n\n\n----------\n\n\n\nThe Longmont Chamber Business Awards are the most prestigious recognition of local business excellence. Jubilee: Celebrate Business in Longmont is our annual membership celebration at which we acknowledge the success of our business and nonprofit community.\n\n\n\nJubilee premieres on December 9th at 7pm! Click here to watch it on YouTube! No registration is required.\n\n\n\n----------\n\n\n\nFollowing the extreme popularity of the Longmont Celebration Box in 2020\, we are once again curating a gift box of items purchased from local businesses to accompany the award ceremony. Boxes are $100 and include a $50 gift card to a choice of restaurant\, a gift card for drinks from Wyatt's Wet Goods\, and more than $100 of joy-sparking gifts for you.\n\n\n\n\n\nInstructions for ordering your Longmont Celebration Box:\n\n\n\n1. Click the orange button above that says "Register Now". You are not registering for an event\; we are limited in our eCommerce options so we sell boxes as if they were event tickets.\n\n\n\n2. A new window will open:\n\n\n	If you are a member of the Chamber\, you can log in under "Member Login"\n	If you are NOT a member of the Longmont Chamber\, there is an option in the middle of the window to continue as a guest.\n\n3. Enter your contact information\, your choice of restaurant\, and select for pick-up or delivery and click "Save Changes".\n\n\n\n4. If you are purchasing another box for someone\, click the "Add Attendee" button and fill out the form again with their selections.\n\n\n\n5. Click "Next"\, review your order\, and check out!\n\n\n\nYou will receive a confirmation email to let you know your order has been processed.
X-ALT-DESC;FMTTYPE=text/html:<p>Last chance to buy your Longmont Celebration Box! We have just a few left\, so if you loved your box and want another or if you saw someone else&#39\;s and are understandably jealous\, you have until midnight on Tuesday\, 12/14 to snag one of the last ones!<br />\n<br />\n----------<br />\n<br />\nThe Longmont Chamber Business Awards are the most prestigious recognition of local business excellence.&nbsp\;Jubilee: Celebrate Business in Longmont&nbsp\;is our annual membership celebration at which we acknowledge the success of our business and nonprofit community.<br />\n<br />\nJubilee premieres on December 9th at 7pm! <strong><a href="https://youtu.be/ry5yG-5x-Y0">Click here to watch it on YouTube!</a></strong> No registration is required.<br />\n<br />\n----------<br />\n<br />\nFollowing the extreme popularity of the Longmont Celebration Box in 2020\, we are once again curating a gift box of items purchased from local businesses to accompany the award ceremony. Boxes are $100 and include a $50 gift card to a choice of restaurant\, a gift card&nbsp\;for drinks from Wyatt&#39\;s Wet Goods\, and more than $100 of joy-sparking gifts for you.<br />\n<br />\n<br />\n<span style="font-size:18px\;"><strong>Instructions for ordering your Longmont Celebration Box:</strong></span><br />\n<br />\n1.&nbsp\;Click the orange button above&nbsp\;that says &quot\;Register Now&quot\;. You are not registering for an event\; we are limited in our eCommerce options so we sell boxes as if they were event tickets.<br />\n<br />\n2.&nbsp\;A new window will open:</p>\n\n<ul>\n	<li>If you are a member of the Chamber\, you can log in under &quot\;Member Login&quot\;</li>\n	<li>If you are NOT a member of the Longmont Chamber\, there is an option in the middle of the window to continue as a guest.</li>\n</ul>\n3. Enter your contact information\, your choice of restaurant\, and select for pick-up or delivery and click &quot\;Save Changes&quot\;.<br />\n<br />\n4.&nbsp\;If you are purchasing another box for someone\, click the &quot\;Add Attendee&quot\; button and fill out the form again with their selections.<br />\n<br />\n5.&nbsp\;Click &quot\;Next&quot\;\, review your order\, and check out!<br />\n<br />\nYou will receive a confirmation email to let you know your order has been processed.
LOCATION:Jubilee will return this year in the virtual format\, featuring an entertaining video award ceremony that will premiere on Facebook and YouTube on December 9th! Click here to watch it on YouTube!
UID:e.3083.8617
SEQUENCE:3
DTSTAMP:20260424T063108Z
URL:https://members.longmontchamber.org/events/details/last-chance-box-sales-jubilee-celebrate-business-in-longmont-8617
END:VEVENT

END:VCALENDAR
