BEGIN:VCALENDAR
VERSION:2.0
PRODID:-//ChamberMaster//Event Calendar 2.0//EN
METHOD:PUBLISH
X-PUBLISHED-TTL:P3D
REFRESH-INTERVAL:P3D
CALSCALE:GREGORIAN
BEGIN:VEVENT
DTSTART:20241221T190000Z
DTEND:20241222T000000Z
X-MICROSOFT-CDO-ALLDAYEVENT:FALSE
SUMMARY:Last Minute Holiday Market!
DESCRIPTION:The winter solstice is here\, and Christmas and Hanukkah are right around the corner! Dry Land team has fully embraced the spirit of the season with the perfect last-minute gifts for anyone on your list - even the grinches. We're hosting a last chance holiday gift market on Saturday from noon - 5 pm.\n\n\n\nEnjoy local craft vendors\, delicious holiday drinks (both spiked and kid-friendly)\, and delicious treats. (Kelly's holiday cookies and Nels' rum creme caramels are on the list).\n\n\n\nWhile you're here\, enjoy the Winter Solstice Events happening throughout downtown from 11 - 7 pm.  Stop by TinkerMill's Astronomy on the Sidewalk at 5th and Main (their solar scope and telescope will be tracking the planets) and the Longmont Loves Food Drive benefitting Longmont Food Rescue at the Firehouse Arts Center.\n\n\n\nDry Land is the perfect place to pause and reconnect in the midst of the chaotic ramp up to the holidays. We'd love to see you and meet the whole family.
X-ALT-DESC;FMTTYPE=text/html:<span style="color:rgb(85\, 85\, 85)\; font-family:arial\; font-size:18px">The winter solstice is here\, and Christmas and Hanukkah are right around the corner! Dry Land team has fully embraced the spirit of the season with the perfect last-minute gifts for anyone on your list - even the grinches. We&#39\;re hosting a last chance holiday gift market on Saturday from noon - 5 pm.</span><br />\n<br />\n<span style="color:rgb(85\, 85\, 85)\; font-family:arial\; font-size:18px">Enjoy local craft vendors\, delicious holiday drinks (both spiked and kid-friendly)\, and delicious treats. (Kelly&#39\;s holiday cookies and Nels&#39\; rum creme caramels are on the list).</span><br />\n<br />\n<span style="color:rgb(85\, 85\, 85)\; font-family:arial\; font-size:18px">While you&#39\;re here\, enjoy the&nbsp\;</span><a href="https://drylanddistillers.acemlna.com/lt.php?x=3DZy~GDEV6TN5XJ6-N~HVuVs~aApvATuwugzZHTHKaSi7sB9_Uy.zeNw1Y2jjdE~jvYxXXfE" style="color: rgb(4\, 95\, 180)\; cursor: pointer\; font-family: arial\; font-size: 18px\; margin: 0px\; outline: none\; padding: 0px\;" target="_blank">Winter Solstice Events</a><span style="color:rgb(85\, 85\, 85)\; font-family:arial\; font-size:18px">&nbsp\;happening throughout downtown from 11 - 7 pm.&nbsp\; Stop by&nbsp\;</span><a href="https://drylanddistillers.acemlna.com/lt.php?x=3DZy~GDEV6TN5XJ6-N~HVuVs~aApvATuwugzZHTHKaSi7sB9_Uy.zeNw1Y2jjdE~jvYxXXfF" style="color: rgb(4\, 95\, 180)\; cursor: pointer\; font-family: arial\; font-size: 18px\; margin: 0px\; outline: none\; padding: 0px\;" target="_blank">TinkerMill&rsquo\;s</a><span style="color:rgb(85\, 85\, 85)\; font-family:arial\; font-size:18px">&nbsp\;Astronomy on the Sidewalk at 5th and Main (their solar scope and telescope will be tracking the planets) and the&nbsp\;</span><a href="https://drylanddistillers.acemlna.com/lt.php?x=3DZy~GDEV6TN5XJ6-N~HVuVs~aApvATuwugzZHTHKaSi7sB9_Uy.zeNw1Y2jjdE~jvYxXXfG" style="color: rgb(4\, 95\, 180)\; cursor: pointer\; font-family: arial\; font-size: 18px\; margin: 0px\; outline: none\; padding: 0px\;" target="_blank">Longmont Loves</a><span style="color:rgb(85\, 85\, 85)\; font-family:arial\; font-size:18px">&nbsp\;Food Drive benefitting Longmont Food Rescue at the Firehouse Arts Center.</span><br />\n<br />\n<span style="color:rgb(85\, 85\, 85)\; font-family:arial\; font-size:18px">Dry Land is the perfect place to pause and reconnect in the midst of the chaotic ramp up to the holidays.&nbsp\;</span><strong>We&#39\;d love to see you and meet the whole family.</strong>
LOCATION:Dry Land Distillers
UID:e.3083.10721
SEQUENCE:3
DTSTAMP:20260421T204222Z
URL:https://members.longmontchamber.org/events/details/last-minute-holiday-market-10721
END:VEVENT

END:VCALENDAR
