BEGIN:VCALENDAR
VERSION:2.0
PRODID:-//ChamberMaster//Event Calendar 2.0//EN
METHOD:PUBLISH
X-PUBLISHED-TTL:P3D
REFRESH-INTERVAL:P3D
CALSCALE:GREGORIAN
BEGIN:VEVENT
DTSTART:20260702T143000Z
DTEND:20260702T153000Z
X-MICROSOFT-CDO-ALLDAYEVENT:FALSE
SUMMARY:Morning Masterminds\, Networking Group
DESCRIPTION:Morning Masterminds is a Networking Group of the Longmont Chamber and is formatted as a Business Connection Group. Meetings are every 1st and 3rd Thursday. The group offers networking\, education\, group discussion\, and relationship-building among professionals.\n\nNetworking Groups are a great way to deeply connect with other local business leaders\, share ideas and organically grow your business through relationships.\n\nOne representative from each industry may attend a Networking Group. Please contact the facilitators before attending.
X-ALT-DESC;FMTTYPE=text/html:<p>Morning Masterminds is a Networking Group of the Longmont Chamber and is formatted as a Business Connection Group.&nbsp\;Meetings are every 1st and 3rd Thursday. The group&nbsp\;offers networking\, education\, group discussion\, and relationship-building among professionals.</p>\n\n<p style="line-height: 1.7em\;">Networking Groups are a great way to deeply connect with other local business leaders\, share&nbsp\;ideas and organically grow your business through relationships.</p>\n\n<p style="line-height: 1.7em\;">One representative from each industry may attend a Networking Group. Please contact the facilitators before attending.</p>\n
LOCATION:Please contact facilitator for location.
UID:e.3083.3463
SEQUENCE:3
DTSTAMP:20260421T002247Z
URL:https://members.longmontchamber.org/events/details/lattes-leads-07-02-2026-3463
END:VEVENT

END:VCALENDAR
