BEGIN:VCALENDAR
VERSION:2.0
PRODID:-//ChamberMaster//Event Calendar 2.0//EN
METHOD:PUBLISH
X-PUBLISHED-TTL:P3D
REFRESH-INTERVAL:P3D
CALSCALE:GREGORIAN
BEGIN:VEVENT
DTSTART:20240608T230000Z
DTEND:20240609T030000Z
X-MICROSOFT-CDO-ALLDAYEVENT:FALSE
SUMMARY:LCJP's 30th Birthday Celebration~
DESCRIPTION:Longmont Community Justice Partnership\, located downtown Longmont\, Colorado is excited to announce its 30th Birthday Celebration on Saturday\, June 8th at the Longmont Museum from 5:00 to 9:00 P.M. The event is Family friendly with a Mobile Arcade\, Bounce house\, Food truck\, prizes and LIVE MUSIC from DJ Luvtron. Food truck and games starting at 5:00 P.M. Program and Awards Ceremony at 7:00 P.M and Silent disco with DJ Luvtron at 8 P.M. All are welcome to attend. Please register in advance at lcjp.com for this fabulous community event.
X-ALT-DESC;FMTTYPE=text/html:<p><strong>Longmont Community Justice Partnership\, located downtown Longmont\, Colorado </strong><span style="font-family:arial\,sans-serif\; font-size:11pt">is excited to announce its 30th Birthday Celebration on Saturday\, June 8th at the Longmont Museum from 5:00 to 9:00 P.M. The event is Family friendly with a Mobile Arcade\, Bounce house\, Food truck\, prizes and LIVE MUSIC from DJ Luvtron. Food truck and games starting at 5:00 P.M. Program and Awards Ceremony at 7:00 P.M and Silent disco with DJ Luvtron at 8 P.M. All are welcome to attend. Please register in advance at lcjp.com for this fabulous community event.&nbsp\;</span></p>\n\n<div>&nbsp\;</div>\n
LOCATION:Longmont Museum
UID:e.3083.10095
SEQUENCE:3
DTSTAMP:20260422T074909Z
URL:https://members.longmontchamber.org/events/details/lcjp-s-30th-birthday-celebration-10095
END:VEVENT

END:VCALENDAR
