BEGIN:VCALENDAR
VERSION:2.0
PRODID:-//ChamberMaster//Event Calendar 2.0//EN
METHOD:PUBLISH
X-PUBLISHED-TTL:P3D
REFRESH-INTERVAL:P3D
CALSCALE:GREGORIAN
BEGIN:VEVENT
DTSTART:20210421T143000Z
DTEND:20210421T160000Z
X-MICROSOFT-CDO-ALLDAYEVENT:FALSE
SUMMARY:Leadership Longmont 2021
DESCRIPTION:Leadership Longmont is a dynamic course of study designed to educate current and aspiring leaders. The program addresses the critical issues and challenges today's leaders must confront\, as well as the opportunities they should be prepared to embrace. The program features weekly sessions every Wednesday morning from April 7 to May 12\, 2021. Applications close March 26.\n\nMore information about the program and a link to the application can be found at longmontchamber.org/leadership-longmont.
X-ALT-DESC;FMTTYPE=text/html:<span style="font-family: -apple-system\, system-ui\, BlinkMacSystemFont\, &quot\;Segoe UI&quot\;\, Roboto\, Oxygen-Sans\, Ubuntu\, Cantarell\, &quot\;Helvetica Neue&quot\;\, sans-serif\, &quot\;Apple Color Emoji&quot\;\, &quot\;Segoe UI Emoji&quot\;\, &quot\;Segoe UI Symbol&quot\;\, sans-serif\; font-size: 18px\; white-space: pre-wrap\;">Leadership Longmont is a dynamic course of study designed to educate current and aspiring leaders. The program addresses the critical issues and challenges today&#39\;s leaders must confront\, as well as the opportunities they should be prepared to embrace. The program features weekly sessions every Wednesday morning from April 7 to May 12\, 2021. Applications close March 26.<br />\nMore information about the program and a link to the application can be found at </span><a class="text-blue underline" contenteditable="false" href="http://longmontchamber.org/leadership-longmont" rel="noreferrer noopener" style="color: rgb(45\, 127\, 249)\; fill: rgb(45\, 127\, 249)\; font-family: -apple-system\, system-ui\, BlinkMacSystemFont\, &quot\;Segoe UI&quot\;\, Roboto\, Oxygen-Sans\, Ubuntu\, Cantarell\, &quot\;Helvetica Neue&quot\;\, sans-serif\, &quot\;Apple Color Emoji&quot\;\, &quot\;Segoe UI Emoji&quot\;\, &quot\;Segoe UI Symbol&quot\;\, sans-serif\; font-size: 18px\; white-space: pre-wrap\;" target="_blank">longmontchamber.org/leadership-longmont</a><span style="font-family: -apple-system\, system-ui\, BlinkMacSystemFont\, &quot\;Segoe UI&quot\;\, Roboto\, Oxygen-Sans\, Ubuntu\, Cantarell\, &quot\;Helvetica Neue&quot\;\, sans-serif\, &quot\;Apple Color Emoji&quot\;\, &quot\;Segoe UI Emoji&quot\;\, &quot\;Segoe UI Symbol&quot\;\, sans-serif\; font-size: 18px\; white-space: pre-wrap\;">.</span>
LOCATION:Zoom meeting format.
UID:e.3083.7794
SEQUENCE:3
DTSTAMP:20260424T184212Z
URL:https://members.longmontchamber.org/events/details/leadership-longmont-2021-04-21-2021-7794
END:VEVENT

END:VCALENDAR
