BEGIN:VCALENDAR
VERSION:2.0
PRODID:-//ChamberMaster//Event Calendar 2.0//EN
METHOD:PUBLISH
X-PUBLISHED-TTL:P3D
REFRESH-INTERVAL:P3D
CALSCALE:GREGORIAN
BEGIN:VEVENT
DTSTART:20250410T143000Z
DTEND:20250410T223000Z
X-MICROSOFT-CDO-ALLDAYEVENT:FALSE
SUMMARY:Leadership Longmont: Public Health Day
DESCRIPTION:
X-ALT-DESC;FMTTYPE=text/html:
LOCATION:
UID:e.3083.10761
SEQUENCE:3
DTSTAMP:20260421T143208Z
URL:https://members.longmontchamber.org/events/details/leadership-longmont-public-health-day-10761
END:VEVENT

END:VCALENDAR
