BEGIN:VCALENDAR
VERSION:2.0
PRODID:-//ChamberMaster//Event Calendar 2.0//EN
METHOD:PUBLISH
X-PUBLISHED-TTL:P3D
REFRESH-INTERVAL:P3D
CALSCALE:GREGORIAN
BEGIN:VEVENT
DTSTART:20190806T140000Z
DTEND:20190806T150000Z
X-MICROSOFT-CDO-ALLDAYEVENT:FALSE
SUMMARY:Morning Edge
DESCRIPTION:Morning Edge is a Networking Group for the Longmont Chamber and is formatted as a Business Connection Group. Be on the Leading Edge of what is happening in Longmont! Join a group of vibrant professionals who share valuable information about community and business. They're focused on helping each other grow their businesses\, connections and knowledge of the city. Morning Edge meets every 1st and 3rd Tuesday at Pistachio Cafe.\n\n\n\nNetworking Groups are a great way to deeply connect with other local business leaders and share leads and ideas. One representative from each industry may attend a Networking Group. Please contact the Facilitator prior to attending!
X-ALT-DESC;FMTTYPE=text/html:<span style="color: rgb(0\, 0\, 0)\; font-size: 12px\;">Morning Edge is a Networking Group for the Longmont Chamber and is formatted as a Business Connection Group. Be on the Leading Edge of what is happening in Longmont! Join a group of vibrant professionals who share valuable information about community and business. They&#39\;re focused on helping each other grow their businesses\, connections and knowledge of the city. Morning Edge meets every 1st and 3rd Tuesday at Pistachio Cafe.<br />\n<br />\nNetworking Groups are a great way to deeply connect with other local business leaders and share leads and ideas. One representative from each industry may attend a Networking Group. Please contact the Facilitator prior to attending!</span>
LOCATION:Pistachio Cafe 2333 N Main St. Suite a Longmont\, CO 80501
UID:e.3083.2951
SEQUENCE:3
DTSTAMP:20260426T041917Z
URL:https://members.longmontchamber.org/events/details/leading-edge-08-06-2019-2951
END:VEVENT

END:VCALENDAR
