BEGIN:VCALENDAR
VERSION:2.0
PRODID:-//ChamberMaster//Event Calendar 2.0//EN
METHOD:PUBLISH
X-PUBLISHED-TTL:P3D
REFRESH-INTERVAL:P3D
CALSCALE:GREGORIAN
BEGIN:VEVENT
DTSTART:20260901T143000Z
DTEND:20260901T153000Z
X-MICROSOFT-CDO-ALLDAYEVENT:FALSE
SUMMARY:Morning Edge\, Networking Group
DESCRIPTION:Morning Edge is a Networking Group for the Longmont Chamber and is formatted as a Business Connection Group. Get a Morning Edge in your business! Join a group of vibrant professionals who share valuable information about community and business. They're focused on helping each other grow their businesses\, connections and knowledge of the city.\n\n\n\nNetworking Groups are a great way to deeply connect with other local business leaders\, share ideas and organically grow your business through relationships.\n\nOne representative from each industry may attend a Networking Group. Please contact the facilitators before attending.
X-ALT-DESC;FMTTYPE=text/html:<p style="font-weight:400\; line-height: 1.7em\;">Morning Edge is a Networking Group for the Longmont Chamber and is formatted as a Business Connection Group. Get a Morning Edge in your business! Join a group of vibrant professionals who share valuable information about community and business.&nbsp\;They&#39\;re focused on helping each other grow their businesses\, connections and knowledge of the city.<br />\n<br />\nNetworking Groups are a great way to deeply connect with other local business leaders\, share&nbsp\;ideas and organically grow your business through relationships.</p>\n\n<p style="line-height: 1.7em\;">One representative from each industry may attend a Networking Group. Please contact the facilitators before attending.</p>\n
LOCATION:Please contact facilitator for location.
UID:e.3083.3036
SEQUENCE:3
DTSTAMP:20260421T033250Z
URL:https://members.longmontchamber.org/events/details/leading-edge-09-01-2026-3036
END:VEVENT

END:VCALENDAR
