BEGIN:VCALENDAR
VERSION:2.0
PRODID:-//ChamberMaster//Event Calendar 2.0//EN
METHOD:PUBLISH
X-PUBLISHED-TTL:P3D
REFRESH-INTERVAL:P3D
CALSCALE:GREGORIAN
BEGIN:VEVENT
DTSTART:20231003T143000Z
DTEND:20231003T153000Z
X-MICROSOFT-CDO-ALLDAYEVENT:FALSE
SUMMARY:Morning Edge\, Networking Group
DESCRIPTION:Morning Edge is a Networking Group for the Longmont Chamber and is formatted as a Business Connection Group. Be on the Leading Edge of what is happening in Longmont! Join a group of vibrant professionals who share valuable information about community and business. They're focused on helping each other grow their businesses\, connections and knowledge of the city. Networking Groups are a great way to deeply connect with other local business leaders and share leads and ideas.\n\nLeads Groups are a great way to deeply connect with other local business leaders and share leads and ideas.\n\nOne representative from each industry may attend a Networking Group. Please contact the facilitators before attending.
X-ALT-DESC;FMTTYPE=text/html:<p style="font-weight:400\; line-height: 1.7em\;">Morning Edge is a Networking Group for the Longmont Chamber and is formatted as a Business Connection Group. Be on the Leading Edge of what is happening in Longmont! Join a group of vibrant professionals who share valuable information about community and business. They&#39\;re focused on helping each other grow their businesses\, connections and knowledge of the city. Networking Groups are a great way to deeply connect with other local business leaders and share leads and ideas.</p>\n\n<p style="font-weight:400\; line-height: 1.7em\;">Leads Groups are a great way to deeply connect with other local business leaders and share leads and ideas.</p>\n\n<p style="font-weight:400\; line-height: 1.7em\;">One representative from each industry may attend a Networking Group. Please contact the facilitators before attending.</p>\n
LOCATION:Please contact facilitator for location.
UID:e.3083.3001
SEQUENCE:3
DTSTAMP:20260422T200555Z
URL:https://members.longmontchamber.org/events/details/leading-edge-10-03-2023-3001
END:VEVENT

END:VCALENDAR
