BEGIN:VCALENDAR
VERSION:2.0
PRODID:-//ChamberMaster//Event Calendar 2.0//EN
METHOD:PUBLISH
X-PUBLISHED-TTL:P3D
REFRESH-INTERVAL:P3D
CALSCALE:GREGORIAN
BEGIN:VEVENT
DTSTART:20250928T190000Z
DTEND:20250928T230000Z
X-MICROSOFT-CDO-ALLDAYEVENT:FALSE
SUMMARY:LeftHand Artist Group Fall Into Art Show
DESCRIPTION:Acoustic live music\, craft beer\, and 24 local artists!
X-ALT-DESC;FMTTYPE=text/html:<br />\n<span style="font-size:22px\;">Acoustic live music\, craft beer\, and 24 local artists!</span>
LOCATION:Wibby Brewing
UID:e.3083.13978
SEQUENCE:3
DTSTAMP:20260421T063944Z
URL:https://members.longmontchamber.org/events/details/lefthand-artist-group-fall-into-art-show-13978
END:VEVENT

END:VCALENDAR
