BEGIN:VCALENDAR
VERSION:2.0
PRODID:-//ChamberMaster//Event Calendar 2.0//EN
METHOD:PUBLISH
X-PUBLISHED-TTL:P3D
REFRESH-INTERVAL:P3D
CALSCALE:GREGORIAN
BEGIN:VEVENT
DTSTART:20210507T153000Z
DTEND:20210507T163000Z
X-MICROSOFT-CDO-ALLDAYEVENT:FALSE
SUMMARY:Local Macroeconomics
DESCRIPTION:Macroeconomics is all about the booms and busts of the business cycle. Using concepts like gross domestic product\, unemployment rate\, and inflation rate\, economists make predictions about the financial future of an entire economy. It's common to think about macroeconomics at a national scale and how the United States compares to other countries\, but in this session\, we'll bring it even closer to home: How does Colorado compare to other states? How does Longmont compare to the rest of Colorado? Let's find out!
X-ALT-DESC;FMTTYPE=text/html:Macroeconomics is all about the booms and busts of the business cycle. Using concepts like gross domestic product\, unemployment rate\, and inflation rate\, economists make predictions about the financial future of an entire economy. It&#39\;s common to think about macroeconomics at a national scale and how the United States compares to other countries\, but in this session\, we&#39\;ll bring it even closer to home: How does Colorado compare to other states? How does Longmont compare to the rest of Colorado? Let&#39\;s find out!
LOCATION:Virtual Zoom information will be sent following registration
UID:e.3083.8189
SEQUENCE:3
DTSTAMP:20260424T183240Z
URL:https://members.longmontchamber.org/events/details/local-macroeconomics-8189
END:VEVENT

END:VCALENDAR
