BEGIN:VCALENDAR
VERSION:2.0
PRODID:-//ChamberMaster//Event Calendar 2.0//EN
METHOD:PUBLISH
X-PUBLISHED-TTL:P3D
REFRESH-INTERVAL:P3D
CALSCALE:GREGORIAN
BEGIN:VEVENT
DTSTART:20240308T143000Z
DTEND:20240308T160000Z
X-MICROSOFT-CDO-ALLDAYEVENT:FALSE
SUMMARY:Location Change!! Business Before Hours at Notch 66 Apartments
DESCRIPTION:For you early risers\, here is your opportunity to network before work and enjoy a delicious breakfast while visiting a variety of businesses throughout Longmont.\n\n\n\nThank you to Notch 66 Apartments for hosting at the last minute\, High Country Bank for providing breakfast and Javastop for their coffee sponsorship!
X-ALT-DESC;FMTTYPE=text/html:<br />\nFor you early risers\, here is your opportunity to network before work and enjoy a delicious breakfast while visiting a variety of businesses throughout Longmont.<br />\n<br />\n<strong>Thank you to Notch 66 Apartments for hosting at the last minute\, High Country Bank for providing breakfast and Javastop for their coffee sponsorship!</strong><br />\n&nbsp\;
LOCATION:Notch 66 Apartments
UID:e.3083.9997
SEQUENCE:3
DTSTAMP:20260422T133338Z
URL:https://members.longmontchamber.org/events/details/location-change-business-before-hours-at-notch-66-apartments-9997
END:VEVENT

END:VCALENDAR
