BEGIN:VCALENDAR
VERSION:2.0
PRODID:-//ChamberMaster//Event Calendar 2.0//EN
METHOD:PUBLISH
X-PUBLISHED-TTL:P3D
REFRESH-INTERVAL:P3D
CALSCALE:GREGORIAN
BEGIN:VEVENT
DTSTART:20250625T130000Z
DTEND:20250625T150000Z
X-MICROSOFT-CDO-ALLDAYEVENT:FALSE
SUMMARY:Longmont Bike to Work Day
DESCRIPTION:Bike to Work Day   Super Station\n\nWednesday\, June 25 | 7:00 9:00 AM | Civic Center Plaza\, 350 Kimbark Street\n\nJoin the Longmont Chamber at the City of Longmont's Bike to Work Day Super Station! Swing by Civic Center Plaza between 7 and 9 AM to fuel up\, connect with fellow riders\, and celebrate biking as a healthy\, sustainable\, and fun way to get around Longmont.\n\nEnjoy free pancakes and sausage grilled by the Lion's Club\, reusable dishware\, prize raffles at 7:20 AM and 8:30 AM\, and community booths rain or shine! The Chamber will be onsite to greet riders and celebrate Longmont's cycling community.\n\nEvent Notes:\n\n\n	\n	Bathrooms and water fountains are available inside the Development Services Center.\n	\n	\n	Bring your bike lock racks are available near the library and Development Services Center.\n	\n	\n	Free parking is available nearby on Kimbark Street and in library lots off Emery Street.\n	\n	\n	Please note there will be no access to outdoor electricity.\n	\n	\n	Photos or video may be taken by media or the City of Longmont.\n	\n\n\n  Whether you're a daily commuter or first-time rider\, we hope to see you there!
X-ALT-DESC;FMTTYPE=text/html:<p data-end="244" data-start="127"><strong data-end="163" data-start="127">Bike to Work Day &ndash\; Super Station</strong><br data-end="166" data-start="163" />\n<strong data-end="244" data-start="166">Wednesday\, June 25 | 7:00&ndash\;9:00 AM | Civic Center Plaza\, 350 Kimbark Street</strong></p>\n\n<p data-end="504" data-start="246">Join the Longmont Chamber at the City of Longmont&rsquo\;s <strong data-end="332" data-start="298">Bike to Work Day Super Station</strong>! Swing by Civic Center Plaza between 7 and 9 AM to fuel up\, connect with fellow riders\, and celebrate biking as a healthy\, sustainable\, and fun way to get around Longmont.</p>\n\n<p data-end="749" data-start="506">Enjoy <strong data-end="541" data-start="512">free pancakes and sausage</strong> grilled by the Lion&rsquo\;s Club\, reusable dishware\, prize raffles at 7:20 AM and 8:30 AM\, and community booths&mdash\;rain or shine! The Chamber will be onsite to greet riders and celebrate Longmont&rsquo\;s cycling community.</p>\n\n<p data-end="767" data-start="751"><strong data-end="767" data-start="751">Event Notes:</strong></p>\n\n<ul data-end="1164" data-start="768">\n	<li data-end="853" data-start="768">\n	<p data-end="853" data-start="770">Bathrooms and water fountains are available inside the Development Services Center.</p>\n	</li>\n	<li data-end="946" data-start="854">\n	<p data-end="946" data-start="856">Bring your bike lock&mdash\;racks are available near the library and Development Services Center.</p>\n	</li>\n	<li data-end="1037" data-start="947">\n	<p data-end="1037" data-start="949">Free parking is available nearby on Kimbark Street and in library lots off Emery Street.</p>\n	</li>\n	<li data-end="1099" data-start="1038">\n	<p data-end="1099" data-start="1040">Please note there will be no access to outdoor electricity.</p>\n	</li>\n	<li data-end="1164" data-start="1100">\n	<p data-end="1164" data-start="1102">Photos or video may be taken by media or the City of Longmont.</p>\n	</li>\n</ul>\n\n<p data-end="1247" data-start="1166">&#128690\; Whether you&rsquo\;re a daily commuter or first-time rider\, we hope to see you there!</p>\n\n<p data-end="796" data-start="674">&nbsp\;</p>\n
LOCATION:Civic Center Plaza
UID:e.3083.13529
SEQUENCE:3
DTSTAMP:20260421T124746Z
URL:https://members.longmontchamber.org/events/details/longmont-bike-to-work-day-13529
END:VEVENT

END:VCALENDAR
