BEGIN:VCALENDAR
VERSION:2.0
PRODID:-//ChamberMaster//Event Calendar 2.0//EN
METHOD:PUBLISH
X-PUBLISHED-TTL:P3D
REFRESH-INTERVAL:P3D
CALSCALE:GREGORIAN
BEGIN:VEVENT
DTSTART:20230315T140000Z
DTEND:20230315T153000Z
X-MICROSOFT-CDO-ALLDAYEVENT:FALSE
SUMMARY:Longmont Business Climate Study Focus Group
DESCRIPTION:Do you want to share your thoughts on the state of business in Longmont? Join us for a focus group on the recently launched Longmont Business Climate study. Coffee and refreshments will be provided.\n\n\n\nThis discussion is limited to 15 people and facilitated by Kerri McDermid\, Chief Communications and Global Impact Officer at St Vrain Valley Schools. More focus groups will be scheduled in the future. If the event is full\, please sign up for the waitlist to be contacted about future events.\n\n\n\nAbout the Study\n\nThe purpose of the Longmont Business Climate Study is to track trends and issues affecting businesses\, as well as emerging issues that may be addressed by the Longmont Chamber and economic partners. Information is shared with community stakeholders\, elected officials\, and used by the Longmont Chamber for developing our advocacy and program priorities.\n\n\n\nTo better understand the diversity of businesses being represented by responses to this survey\, there is an optional demographic section at the end of this survey. Demographic information will only be shared as aggregated datasets. Any identifying information provided will be kept confidential.\n\n\n\nIf you have not already participated in the study\, click here: https://l.ead.me/Longmont-Business-Climate-Study\n\n\n\nPlease note that the audio of this event will be recorded. Attendees will not be captured on video.
X-ALT-DESC;FMTTYPE=text/html:<br />\nDo you want to share your thoughts on the state of business in Longmont? Join us for a focus group on the recently launched Longmont Business Climate study. Coffee and refreshments will be provided.<br />\n<br />\nThis discussion is limited to 15 people and facilitated by Kerri McDermid\, Chief Communications and Global Impact Officer at St Vrain Valley Schools. More focus groups will be scheduled in the future. If the event is full\, please sign up for the waitlist to be contacted about future events.<br />\n<br />\n<strong>About the Study</strong><br />\nThe purpose of the Longmont Business Climate Study is to track trends and issues affecting businesses\, as well as emerging issues that may be addressed by the Longmont Chamber and economic partners. Information is shared with community stakeholders\, elected officials\, and used by the Longmont Chamber for developing our advocacy and program priorities.<br />\n<br />\nTo better understand the diversity of businesses being represented by responses to this survey\, there is an optional demographic section at the end of this survey. Demographic information will only be shared as aggregated datasets. Any identifying information provided will be kept confidential.<br />\n<br />\nIf you have not already participated in the study\, click here:&nbsp\;<a href="https://l.ead.me/Longmont-Business-Climate-Study">https://l.ead.me/Longmont-Business-Climate-Study</a><br />\n<br />\nPlease note that the audio of this event will be recorded. Attendees will not be captured on video.
LOCATION:Longmont Area Chamber of Commerce 528 Main St. Longmont\, CO 80501 This event will be held in the conference room.
UID:e.3083.9651
SEQUENCE:3
DTSTAMP:20260423T070514Z
URL:https://members.longmontchamber.org/events/details/longmont-business-climate-study-focus-group-9651
END:VEVENT

END:VCALENDAR
