BEGIN:VCALENDAR
VERSION:2.0
PRODID:-//ChamberMaster//Event Calendar 2.0//EN
METHOD:PUBLISH
X-PUBLISHED-TTL:P3D
REFRESH-INTERVAL:P3D
CALSCALE:GREGORIAN
BEGIN:VEVENT
DTSTART:20240530T230000Z
DTEND:20240531T010000Z
X-MICROSOFT-CDO-ALLDAYEVENT:FALSE
SUMMARY:Longmont Chamber Grand Re-Opening of 528 Main St.
DESCRIPTION:Join us in celebrating the Grand Reopening of the Longmont Chamber Building on 5/30 from 5-7pm. After nearly one year the Longmont Chamber Building at 528 Main St is completely renovated and we are celebrating! Joined by our top donors and invested community members we are thrilled to open our new and modernized space to our members. We invite you to consider personally supporting by making a donation toward the Foundation Forward capital campaign. Together we can build on our foundation and move Longmont forward. \n\n\n\nEvening's Agenda:\n\n5:00 pm   Ribbon Cutting\, held on the east-facing back porch \n\n                Silent Auction Opens \n\n                Food & Drink \n\n6:15 pm   Chair Welcome \n\n                 Donor and Sponsor Recognition \n\n                 Live Auction \n\n7:00 pm   Silent Auction Closes\n\n                Event Ends\n\n\n\nHuge thanks to the sponsors that have made this celebration possible: \n\nJMarie Skin Studio | Jessica and her premiere team believe in supporting and uplifting their community. That's why she asked the Longmont Chamber what they needed to celebrate the Grand Re-opening and sponsored the entire cost of the party! \n\n\n\nBeverage sponsors: \n\nK per Wine Bar\n\nDry Land Distillers \n\nLeft Hand Brewery \n\n\n\nFood Sponsors:\n\nA Spice of Life Catering \n\nK per Food\n\nPinocchio's Longmont & High Country Bank \n\n\nAbout the Longmont Chamber's Renovation Journey\n\n\n\nFoundations\n\n\n\nThe Longmont Area Chamber of Commerce has been in this community for 137 years. Founded in 1886\, the Longmont Chamber was formed just 15 years after the City of Longmont was established. The Longmont Chamber has always been completely funded by member businesses wanting to support growing and dynamic commerce in our community. To this day the Longmont Chamber is supported by business members and the events and programs we produce for businesses and our community.\n\n\n\nBrick by Brick\n\n\n\nIn the late 1950s\, the Longmont Chamber built and called the office at 455 Kimbark home. The building was raised in a matter of days. This is now where El Comit  is located.\n\n\n\nThe Longmont Chamber moved into 528 Main St. in 1987\, when the then board of directors voted to purchase the building. The seated board wrote personal guarantees on the loan to secure funding for the purchase.\n\n\n\nFrom Renters to Owners\n\n\n\nThe building purchase was paid off and a mortgage-burning ceremony took place in 2002. 528 Main Street  was officially owned by\, and under the sole stewardship  of\, the Longmont Chamber.\n\n\n\n528 Main St. is 5\,300 square feet and extends from the Main St. facing sidewalk all the way through to the east alley and 500-block parking lot. Since purchasing the building in 1987\, it has gone largely unchanged.\n\n\n\nFoundation Forward Campaign\n\n\n\n2023-2024 is an especially momentous time for our  organization. Many of you have seen the renovation work  at your Chamber building at 528 Main Street\, but not  everyone knows that the Chamber is fundraising to pay  off the loans we've acquired to launch this endeavor.\n\n\n\nFoundation Forward is a $650\,000 campaign to fund the  remodel of the Longmont Chamber building. It's not a  large amount as campaigns go\, but it is a significant  opportunity for our community to take part in supporting  the next chapter of our shared story.
X-ALT-DESC;FMTTYPE=text/html:<div>Join us in celebrating the Grand Reopening of the Longmont Chamber Building on 5/30 from 5-7pm.&nbsp\;After nearly one year the Longmont Chamber Building at 528 Main St is completely renovated and we are celebrating! Joined by our top donors&nbsp\;and invested community members we are thrilled to open our new and modernized space to our members. We invite you to consider personally supporting by making a donation toward the <a href="http://l.ead.me/Foundation-Forward">Foundation Forward</a> capital campaign. Together we can build on our foundation and move Longmont forward.&nbsp\;<br />\n<br />\n<em><strong>Evening&#39\;s Agenda:</strong></em><br />\n5:00 pm&nbsp\; &nbsp\;Ribbon Cutting\, held on the east-facing&nbsp\;back porch&nbsp\;<br />\n&nbsp\;&nbsp\;&nbsp\;&nbsp\;&nbsp\;&nbsp\;&nbsp\;&nbsp\;&nbsp\; &nbsp\; &nbsp\; &nbsp\; Silent Auction Opens&nbsp\;<br />\n&nbsp\;&nbsp\;&nbsp\;&nbsp\;&nbsp\;&nbsp\;&nbsp\;&nbsp\;&nbsp\; &nbsp\; &nbsp\; &nbsp\; Food &amp\; Drink&nbsp\;<br />\n6:15 pm&nbsp\; &nbsp\;Chair Welcome&nbsp\;<br />\n&nbsp\;&nbsp\;&nbsp\;&nbsp\;&nbsp\;&nbsp\;&nbsp\;&nbsp\;&nbsp\;&nbsp\;&nbsp\;&nbsp\;&nbsp\; &nbsp\; &nbsp\;Donor and Sponsor Recognition&nbsp\;<br />\n&nbsp\;&nbsp\;&nbsp\;&nbsp\;&nbsp\;&nbsp\;&nbsp\;&nbsp\;&nbsp\;&nbsp\;&nbsp\;&nbsp\;&nbsp\;&nbsp\;&nbsp\;&nbsp\;&nbsp\;Live Auction&nbsp\;<br />\n7:00 pm&nbsp\; &nbsp\;Silent Auction Closes<br />\n&nbsp\;&nbsp\;&nbsp\;&nbsp\;&nbsp\;&nbsp\;&nbsp\;&nbsp\;&nbsp\;&nbsp\;&nbsp\;&nbsp\;&nbsp\; &nbsp\; Event Ends<br />\n<br />\n<strong>Huge thanks to the sponsors that have made this celebration possible:&nbsp\;</strong><br />\nJMarie Skin Studio |&nbsp\;Jessica and her premiere team believe in supporting and uplifting their community. That&#39\;s why she asked the Longmont Chamber what they needed to celebrate the Grand Re-opening and sponsored the entire cost of the party!&nbsp\;<br />\n<br />\n<strong>Beverage sponsors:&nbsp\;</strong><br />\nK&uuml\;per Wine Bar<br />\nDry Land Distillers&nbsp\;<br />\nLeft Hand Brewery&nbsp\;<br />\n<br />\n<strong>Food Sponsors:</strong><br />\nA Spice of Life Catering&nbsp\;<br />\nK&uuml\;per Food<br />\nPinocchio&#39\;s Longmont &amp\; High Country Bank&nbsp\;</div>\n<br />\n<span .="" 000="" 30="" 5-7pm.="" 50="" a="" after="" also="" and="" apple="" be="" build="" building="" business="" can="" celebrating="" chamber="" color="" cutting="" event="" font-size:="" forward="" foundation="" from="" fuels="" grand="" helvetica="" hours="" href="http://l.ead.me/Foundation-Forward" in="" is="" join="" just="" longmont="" move="" networking="" noto="" of="" on="" our="" per="" raise="" reopening="" ribbon="" s="" segoe="" span="" style="color: rgb(13\, 13\, 13)\; font-family: Söhne\, ui-sans-serif\, system-ui\, -apple-system\, " support="" sure="" the="" this="" through="" to="" ui="" us="" we="" white-space-collapse:="" with="" your=""><strong>About the Longmont Chamber&#39\;s Renovation Journey</strong><br />\n<br />\n<em>Foundations</em><br />\n<br />\nThe Longmont Area Chamber of Commerce has been in this community for 137 years. Founded in 1886\, the Longmont Chamber was formed just 15 years after the City of Longmont was established. The Longmont Chamber has always been completely funded by member businesses wanting to support growing and dynamic commerce in our community. To this day the Longmont Chamber is supported by business members and the events and programs we produce for businesses and our community.<br />\n<br />\n<em>Brick by Brick</em><br />\n<br />\nIn the late 1950s\, the Longmont Chamber built and called the office at 455 Kimbark home. The building was raised in a matter of days. This is now where El Comit&eacute\; is located.<br />\n<br />\nThe Longmont Chamber moved into 528 Main St. in 1987\, when the then board of directors voted to purchase the building. The seated board wrote personal guarantees on the loan to secure funding for the purchase.<br />\n<br />\n<em>From Renters to Owners</em><br />\n<br />\nThe building purchase was paid off and a mortgage-burning ceremony took place in 2002. 528 Main Street &#8203\;was officially owned by\, and under the sole stewardship &#8203\;of\, the Longmont Chamber.<br />\n<br />\n528 Main St. is 5\,300 square feet and extends from the Main St. facing sidewalk all the way through to the east alley and 500-block parking lot. Since purchasing the building in 1987\, it has gone largely unchanged.<br />\n<br />\n<em>Foundation Forward Campaign</em><br />\n<br />\n2023-2024 is an especially momentous time for our &#8203\;organization. Many of you have seen the renovation work &#8203\;at your Chamber building at 528 Main Street\, but not &#8203\;everyone knows that the Chamber is fundraising to pay &#8203\;off the loans we&#39\;ve acquired to launch this endeavor.<br />\n<br />\nFoundation Forward is a $650\,000 campaign to fund the &#8203\;remodel of the Longmont Chamber building. It&#39\;s not a &#8203\;large amount as campaigns go\, but it is a significant &#8203\;opportunity for our community to<a href="https://longmont.fcsuite.com/erp/donate/create/fund?funit_id=4069"> take part in supporting</a> &#8203\;the next chapter of our shared story.</span>
LOCATION:
UID:e.3083.10001
SEQUENCE:3
DTSTAMP:20260422T091051Z
URL:https://members.longmontchamber.org/events/details/longmont-chamber-grand-re-opening-of-528-main-st-10001
END:VEVENT

END:VCALENDAR
