BEGIN:VCALENDAR
VERSION:2.0
PRODID:-//ChamberMaster//Event Calendar 2.0//EN
METHOD:PUBLISH
X-PUBLISHED-TTL:P3D
REFRESH-INTERVAL:P3D
CALSCALE:GREGORIAN
BEGIN:VEVENT
DTSTART:20260914T183000Z
DTEND:20260914T200000Z
X-MICROSOFT-CDO-ALLDAYEVENT:FALSE
SUMMARY:Longmont Chamber Health and Wellness\, Networking Group
DESCRIPTION:Longmont Chamber Health and Wellness Group is a networking group for professionals that provide Health and Wellness services. The mindset of the group is positive\, upbeat\, and collaborative! The goal is to allow members a platform to promote their business\, as well as learn about other members' businesses and find ways to collaborate and refer. In addition to your "moment to shine" at our networking meetings\, there will be time for brainstorming with other members about topics of interest that affect our businesses and enable us to grow. Come check us out!\nNetworking Groups are a great way to deeply connect with other local business leaders\, share ideas and organically grow your business through relationships.\n\nIn this group\, all Health and Wellness service providers are welcome. Please contact the facilitators before attending.
X-ALT-DESC;FMTTYPE=text/html:Longmont Chamber Health and Wellness Group is a networking group for professionals that provide Health and Wellness services. The mindset of the group is positive\, upbeat\, and collaborative! The goal is to allow members a platform to promote their business\, as well as learn about other members&rsquo\; businesses and find ways to collaborate and refer. In addition to your &ldquo\;moment to shine&rdquo\; at our networking meetings\, there will be time for brainstorming with other members about topics of interest that affect our businesses and enable us to grow. Come check us out!\n<p style="line-height: 1.7em\;">Networking Groups are a great way to deeply connect with other local business leaders\, share&nbsp\;ideas and organically grow your business through relationships.</p>\n\n<p style="line-height: 1.7em\;">In this group\, all Health and Wellness&nbsp\;service providers are welcome. Please contact the facilitators before attending.</p>\n
LOCATION:528 Main Street\, Longmont
UID:e.3083.11302
SEQUENCE:3
DTSTAMP:20260421T033756Z
URL:https://members.longmontchamber.org/events/details/longmont-chamber-health-and-wellness-group-09-14-2026-11302
END:VEVENT

END:VCALENDAR
