BEGIN:VCALENDAR
VERSION:2.0
PRODID:-//ChamberMaster//Event Calendar 2.0//EN
METHOD:PUBLISH
X-PUBLISHED-TTL:P3D
REFRESH-INTERVAL:P3D
CALSCALE:GREGORIAN
BEGIN:VEVENT
DTSTART:20260805T143000Z
DTEND:20260805T153000Z
X-MICROSOFT-CDO-ALLDAYEVENT:FALSE
SUMMARY:Longmont Chamber Home Pros\, Networking Group
DESCRIPTION:Longmont Chamber Home Pros is a networking group for professionals that provide home and commercial services for residential and/ or commercial properties\, inside or out. This group looks to build strong relationships and referral partnerships with others in the industry. Members will share and learn from other professionals' tips and tricks that have helped them succeed. The mindset of the group is positive\, upbeat\, and collaborative! The goal is to allow members a platform to promote their business\, as well as learn about other members' businesses. In addition to your "moment to shine" at our networking meetings\, there will be time for brainstorming with other members about topics of interest that affect our businesses and enable us to grow. Come check us out!\nNetworking Groups are a great way to deeply connect with other local business leaders\, share ideas and organically grow your business through relationships.\n\nThis group is open to any and all professionals who fit this category! \n\nPlease register before attending.
X-ALT-DESC;FMTTYPE=text/html:Longmont Chamber Home Pros is a networking group for professionals that provide home and commercial services&nbsp\;for residential and/ or commercial properties\, inside or out. This group looks to build strong relationships and referral partnerships with others in the industry. Members will share and learn from other professionals&rsquo\; tips and tricks that have helped them succeed. The mindset of the group is positive\, upbeat\, and collaborative! The goal is to allow members a platform to promote their business\, as well as learn about other members&rsquo\; businesses. In addition to your &ldquo\;moment to shine&rdquo\; at our networking meetings\, there will be time for brainstorming with other members about topics of interest that affect our businesses and enable us to grow. Come check us out!\n<p style="line-height: 1.7em\;">Networking Groups are a great way to deeply connect with other local business leaders\, share&nbsp\;ideas and organically grow your business through relationships.</p>\n\n<p style="line-height: 1.7em\;">This group is open to any and all professionals who fit this category!&nbsp\;<br />\nPlease register before attending.</p>\n
LOCATION:528 Main Street\, Longmont
UID:e.3083.11171
SEQUENCE:3
DTSTAMP:20260421T015701Z
URL:https://members.longmontchamber.org/events/details/longmont-chamber-home-pros-08-05-2026-11171
END:VEVENT

END:VCALENDAR
