BEGIN:VCALENDAR
VERSION:2.0
PRODID:-//ChamberMaster//Event Calendar 2.0//EN
METHOD:PUBLISH
X-PUBLISHED-TTL:P3D
REFRESH-INTERVAL:P3D
CALSCALE:GREGORIAN
BEGIN:VEVENT
DTSTART:20210724T150000Z
DTEND:20210724T170000Z
X-MICROSOFT-CDO-ALLDAYEVENT:FALSE
SUMMARY:Longmont Community Justice Partnership Community Pancake Breakfast
DESCRIPTION:Please join us for a very special pancake breakfast!\n\n \n\nThis is our first in-person gathering since 2020 and we are greatly looking forward to connecting with our community again. We want to share with you everything we have been up to and everything we are looking forward to! We will teach you all about connection circles and you will be able to create your own talking piece. Friends and family welcome!
X-ALT-DESC;FMTTYPE=text/html:<div style="text-align:center"><strong>Please join us for a very special&nbsp\;pancake&nbsp\;breakfast!</strong></div>\n\n<div>&nbsp\;</div>\n\n<div><span style="color:rgb(29\, 28\, 29)\; font-size:18px">This is our first in-person gathering since 2020 and we are greatly looking forward to connecting with our community again. We want to share with you everything we have been up to and everything we are looking forward to! We will teach you all about connection circles and you will be able to create your own talking piece. Friends and family welcome!</span></div>\n
LOCATION:United Church of Christ 1500 9th Ave\, Longmont CO
UID:e.3083.8463
SEQUENCE:3
DTSTAMP:20260424T141104Z
URL:https://members.longmontchamber.org/events/details/longmont-community-justice-partnership-community-pancake-breakfast-8463
END:VEVENT

END:VCALENDAR
