BEGIN:VCALENDAR
VERSION:2.0
PRODID:-//ChamberMaster//Event Calendar 2.0//EN
METHOD:PUBLISH
X-PUBLISHED-TTL:P3D
REFRESH-INTERVAL:P3D
CALSCALE:GREGORIAN
BEGIN:VEVENT
DTSTART:20250315T150000Z
DTEND:20250315T200000Z
X-MICROSOFT-CDO-ALLDAYEVENT:FALSE
SUMMARY:Longmont Elks Blood Drive
DESCRIPTION:American Red Cross will be at the Elks Lodge Saturday\, March 15th collecting blood.  You can preregister at RedCross Blood.org/rapidpass or drop in the day of the drive.  Donate in March and receive a $10 Amazon gift card from the Red Cross.
X-ALT-DESC;FMTTYPE=text/html:<br />\n<br />\n<span style="font-size:22px\;">American Red Cross will be at the Elks Lodge Saturday\, March 15th collecting blood. &nbsp\;You can preregister at <a href="https://www.redcrossblood.org/donate-blood/manage-my-donations/rapidpass.html">RedCross Blood.org/rapidpass</a> or drop in the day of the drive. &nbsp\;Donate in March and receive a $10 Amazon gift card from the Red Cross.&nbsp\;</span>
LOCATION:Longmont Elks Lodge #1055
UID:e.3083.12278
SEQUENCE:3
DTSTAMP:20260421T160225Z
URL:https://members.longmontchamber.org/events/details/longmont-elks-blood-drive-12278
END:VEVENT

END:VCALENDAR
