BEGIN:VCALENDAR
VERSION:2.0
PRODID:-//ChamberMaster//Event Calendar 2.0//EN
METHOD:PUBLISH
X-PUBLISHED-TTL:P3D
REFRESH-INTERVAL:P3D
CALSCALE:GREGORIAN
BEGIN:VEVENT
DTSTART:20240718T140000Z
DTEND:20240718T220000Z
X-MICROSOFT-CDO-ALLDAYEVENT:FALSE
SUMMARY:Longmont Elks Lodge 1055 Charity Golf Scramble
DESCRIPTION:The Longmont Elks Lodge 1055 is hosting its annual golf outing at Ute Creek GC benefiting the Wounded Warrior Project and Elk charities. Sponsorships are available. There are loads of prizes to win and an online silent auction. Lunch is included. AND a Hole-in-One contest with a $10\,000 prize. Men and women are welcome. Contact Damian@thewiseteam.com/ 720-600-1960. $150 per player or $600 per team.
X-ALT-DESC;FMTTYPE=text/html:The Longmont Elks Lodge 1055 is hosting its annual golf outing at Ute Creek GC benefiting the Wounded Warrior Project and Elk charities. Sponsorships are available. There are loads of prizes to win and an online silent auction. Lunch is included. AND a Hole-in-One contest with a $10\,000 prize. Men and women are welcome. Contact Damian@thewiseteam.com/ 720-600-1960. $150 per player or $600 per team.
LOCATION:Ute Creek Golf Course\, 2000 Ute Creek Drive\, Longmont\, CO 80504
UID:e.3083.10151
SEQUENCE:3
DTSTAMP:20260422T044501Z
URL:https://members.longmontchamber.org/events/details/longmont-elks-lodge-1055-charity-golf-scramble-10151
END:VEVENT

END:VCALENDAR
