BEGIN:VCALENDAR
VERSION:2.0
PRODID:-//ChamberMaster//Event Calendar 2.0//EN
METHOD:PUBLISH
X-PUBLISHED-TTL:P3D
REFRESH-INTERVAL:P3D
CALSCALE:GREGORIAN
BEGIN:VEVENT
DTSTART:20250621T210000Z
DTEND:20250622T003000Z
X-MICROSOFT-CDO-ALLDAYEVENT:FALSE
SUMMARY:Longmont Juneteenth
DESCRIPTION:Longmont Juneteenth Festival\n\nSaturday\, June 21 | 3:00 6:30 PM | Roosevelt Park\n\nThe Longmont Chamber of Commerce is proud to join the celebration at this year's Longmont Juneteenth Festival! Stop by our tent to connect and pick up a limited-edition Longmonster Juneteenth 2025 sticker available only at this event.\n\nCome enjoy an afternoon of live music\, cultural performances\, local vendors\, and powerful community storytelling. This family-friendly festival honors freedom\, resilience\, and the vibrant legacy of Black culture in Longmont.\n\n     \n\nCelebrate freedom. Celebrate culture. Celebrate community.
X-ALT-DESC;FMTTYPE=text/html:<p data-end="171" data-start="83"><strong data-end="115" data-start="83">Longmont Juneteenth Festival</strong><br data-end="118" data-start="115" />\n<strong data-end="171" data-start="118">Saturday\, June 21 | 3:00&ndash\;6:30 PM | Roosevelt Park</strong></p>\n\n<p data-end="409" data-start="173">The Longmont Chamber of Commerce is proud to join the celebration at this year&rsquo\;s Longmont Juneteenth Festival! Stop by our tent to connect and pick up a <em data-end="379" data-start="326">limited-edition Longmonster Juneteenth 2025 sticker</em>&mdash\;available only at this event.</p>\n\n<p data-end="635" data-start="411">Come enjoy an afternoon of live music\, cultural performances\, local vendors\, and powerful community storytelling. This family-friendly festival honors freedom\, resilience\, and the vibrant legacy of Black culture in Longmont.</p>\n\n<p data-end="698" data-start="637">&#10084\;&#65039\;&#128155\;&#128154\;&#128420\;<br />\nCelebrate freedom. Celebrate culture. Celebrate community.</p>\n\n<p data-end="796" data-start="674">&nbsp\;</p>\n
LOCATION:Roosevelt Park
UID:e.3083.13528
SEQUENCE:3
DTSTAMP:20260421T110920Z
URL:https://members.longmontchamber.org/events/details/longmont-juneteenth-13528
END:VEVENT

END:VCALENDAR
