BEGIN:VCALENDAR
VERSION:2.0
PRODID:-//ChamberMaster//Event Calendar 2.0//EN
METHOD:PUBLISH
X-PUBLISHED-TTL:P3D
REFRESH-INTERVAL:P3D
CALSCALE:GREGORIAN
BEGIN:VEVENT
DTSTART:20210724T180000Z
DTEND:20210724T210000Z
X-MICROSOFT-CDO-ALLDAYEVENT:FALSE
SUMMARY:Longmont Medical Career and Health Explorations
DESCRIPTION:Healthy Hearts invites all friends and families to immerse in health care careers and more!\n\n	Free walk-in biometric screening: receive cholesterol\, BMI and blood pressure results in 15 min.\n	Donate blood with Garth Englund mobile drive (sign up required\, space is limited)\n	Experience cutting-edge technology\, virtual reality\, robotics and design thinking from the St. Vrain Valley School District (SVVSD) Innovation Center Mobile Lab\n	Talk to a variety of healthcare professionals about their career paths and other topics:\n	\n		Registered Nurses (RN)\n		Healthy Hearts Educators\n		Physicians\n		Researchers and Scientists\n		Pharmacists\n		Stroke team\n		Emergency Medical Technicians (EMT)\n		Certified Nursing Assistant (CNA)\n		Nurse Practitioners (NP)\n		Trauma specialist and bike helmet safety\n		Fitness trainers and exercise physiologists\n		Acupuncture and Massage therapist\n		Medical Assistants (MA)\n		Radiology\n		Nutritionists\n		Behavioral Health\n	\n	\n	Engage with first responders and explore an ambulance\, fire truck and get up-close to the Life Line helicopter.\n	Tour emergency vehicles\n	Touch real hearts and lungs\n	Practice your phlebotomy skills on a manikin arm\n	Learn hands-only CPR and how to use an AED\n	Get your heart rate up by taking a ride on a smoothie bike\n	Healthy Hearts games\, trivia and physical activities\n	Visit each career and enter your name in a drawing for a Fitbit \n\nThis program is free\, but registration is highly encouraged. Refreshments will be provided. Register here: redcap.link/Longspeakevent
X-ALT-DESC;FMTTYPE=text/html:Healthy Hearts invites all friends and families to immerse in health care careers and more!\n<ul>\n	<li>Free walk-in biometric screening: receive cholesterol\, BMI and blood pressure results in 15 min.</li>\n	<li>Donate blood with Garth Englund mobile drive (sign up required\, space is limited)</li>\n	<li>Experience cutting-edge technology\, virtual reality\, robotics and design thinking from the St. Vrain Valley School District (SVVSD) Innovation Center Mobile Lab</li>\n	<li>Talk to a variety of healthcare professionals about their career paths and other topics:\n	<ul>\n		<li>Registered Nurses (RN)</li>\n		<li>Healthy Hearts Educators</li>\n		<li>Physicians</li>\n		<li>Researchers and Scientists</li>\n		<li>Pharmacists</li>\n		<li>Stroke team</li>\n		<li>Emergency Medical Technicians (EMT)</li>\n		<li>Certified Nursing Assistant (CNA)</li>\n		<li>Nurse Practitioners (NP)</li>\n		<li>Trauma specialist and bike helmet safety</li>\n		<li>Fitness trainers and exercise physiologists</li>\n		<li>Acupuncture and Massage therapist</li>\n		<li>Medical Assistants (MA)</li>\n		<li>Radiology</li>\n		<li>Nutritionists</li>\n		<li>Behavioral Health</li>\n	</ul>\n	</li>\n	<li>Engage with first responders and explore an ambulance\, fire truck and get up-close to the Life Line helicopter.</li>\n	<li>Tour emergency vehicles</li>\n	<li>Touch real hearts and lungs</li>\n	<li>Practice your phlebotomy skills on a manikin arm</li>\n	<li>Learn hands-only CPR and how to use an AED</li>\n	<li>Get your heart rate up by taking a ride on a smoothie bike</li>\n	<li>Healthy Hearts games\, trivia and physical activities</li>\n	<li>Visit each career and enter your name in a drawing for a Fitbit&nbsp\;</li>\n</ul>\nThis program is free\, but registration is highly encouraged. Refreshments will be provided. Register here: <a href="https://redcap.ucdenver.edu/surveys/?s=NTXDJ7FX99">redcap.link/Longspeakevent</a>
LOCATION:UCHealth Longs Peak Hospital (southeast parking lot) 1750 E. Ken Pratt Blvd. Longmont\, CO 80504
UID:e.3083.8466
SEQUENCE:3
DTSTAMP:20260424T154718Z
URL:https://members.longmontchamber.org/events/details/longmont-medical-career-and-health-explorations-8466
END:VEVENT

END:VCALENDAR
