BEGIN:VCALENDAR
VERSION:2.0
PRODID:-//ChamberMaster//Event Calendar 2.0//EN
METHOD:PUBLISH
X-PUBLISHED-TTL:P3D
REFRESH-INTERVAL:P3D
CALSCALE:GREGORIAN
BEGIN:VEVENT
DTSTART:20250607T213000Z
DTEND:20250608T020000Z
X-MICROSOFT-CDO-ALLDAYEVENT:FALSE
SUMMARY:Longmont PRIDE Festival
DESCRIPTION:Longmont Pride Festival\n\nSaturday\, June 7 | 3:30 8:00 PM | Roosevelt Park\n\nThe Longmont Chamber of Commerce is proud to be an ally organization at this year's Longmont Pride Festival! Stop by our tent to say hello and pick up a limited-edition Longmonster Pride 2025 sticker available only at the event.\n\nJoin us for an afternoon filled with live entertainment\, interactive games\, local vendors\, and community connection. Pride goodies from RMEQ and engaging booths from local organizations will be featured throughout the day.\n\n  Keep the celebration going at Rainbow Disco\, the official afterparty of Longmont Pride Festival! [Get tickets here.]
X-ALT-DESC;FMTTYPE=text/html:<p data-end="216" data-start="134"><strong data-end="161" data-start="134">Longmont Pride Festival</strong><br data-end="164" data-start="161" />\n<strong data-end="216" data-start="164">Saturday\, June 7 | 3:30&ndash\;8:00 PM | Roosevelt Park</strong></p>\n\n<p data-end="448" data-start="218">The Longmont Chamber of Commerce is proud to be an ally organization at this year&rsquo\;s Longmont Pride Festival! Stop by our tent to say hello and pick up a limited-edition <em data-end="411" data-start="387">Longmonster Pride 2025</em> sticker&mdash\;available only at the event.</p>\n\n<p data-end="672" data-start="450">Join us for an afternoon filled with live entertainment\, interactive games\, local vendors\, and community connection. Pride goodies from RMEQ and engaging booths from local organizations will be featured throughout the day.</p>\n\n<p data-end="796" data-start="674">&#10024\; Keep the celebration going at <strong data-end="723" data-start="706">Rainbow Disco</strong>\, the official afterparty of Longmont Pride Festival! <a href="https://www.eventbrite.com/e/rainbow-disco-the-official-longmont-pride-afterparty-tickets-1363557329679?aff=oddtdtcreator&amp\;fbclid=IwQ0xDSwKYBHFleHRuA2FlbQEwAGFkaWQBqx6B7MUwzAEewMi8sn4_HT5vwvQtgxLDMZrrwvEUJkxtBpNpa_rav66GGGW_H0ylGR50zgY_aem_6dTvwV7HaxjJQ92ipO45Bg">[Get tickets here.]</a></p>\n
LOCATION:Roosevelt Park
UID:e.3083.13527
SEQUENCE:3
DTSTAMP:20260421T111137Z
URL:https://members.longmontchamber.org/events/details/longmont-pride-festival-13527
END:VEVENT

END:VCALENDAR
